BEGIN:VCALENDAR
VERSION:2.0
PRODID:-//ChamberMaster//Event Calendar 2.0//EN
METHOD:PUBLISH
X-PUBLISHED-TTL:P3D
REFRESH-INTERVAL:P3D
CALSCALE:GREGORIAN
BEGIN:VEVENT
DTSTART:20171012T190000Z
DTEND:20171012T220000Z
X-MICROSOFT-CDO-ALLDAYEVENT:FALSE
SUMMARY:Friends of the Libraries of Towns County Members Only Book Sale
DESCRIPTION:Friends of the Libraries of Towns County--Members Only Book Sale
X-ALT-DESC;FMTTYPE=text/html:Friends of the Libraries of Towns County--Members Only Book Sale
LOCATION:Mountain Regional Library\, 698 Miller St.\, Young Harris\, GA.
UID:e.256.76113
SEQUENCE:3
DTSTAMP:20260419T160749Z
URL:https://members.visitblairsvillega.com/events/details/friends-of-the-libraries-of-towns-county-members-only-book-sale-76113
END:VEVENT

END:VCALENDAR
