BEGIN:VCALENDAR
VERSION:2.0
PRODID:-//ChamberMaster//Event Calendar 2.0//EN
METHOD:PUBLISH
X-PUBLISHED-TTL:P3D
REFRESH-INTERVAL:P3D
CALSCALE:GREGORIAN
BEGIN:VEVENT
DTSTART:20160820T140000Z
DTEND:20160820T180000Z
X-MICROSOFT-CDO-ALLDAYEVENT:FALSE
SUMMARY:Friendship Festival
DESCRIPTION:As we enter back into another school year\, with many tragedies from the summer months\, SAFE and supporters offer an event for families\, friends\, and children to enjoy friends\, fishing and fun! Community\, unity\, and understanding of others is the way to build a better future. \n\n\n\nPlease join us for a day of fun and learning about positive choices for our children's future!\n\n\n\nBring a fishing pole for the kiddos to enjoy fishing from the bank. \n\n\n\nThis event is free to the public to enjoy and learn!\n\n\n\nNOTTELY MARINA\n\n86 DOUCETTE CIRCLE BLAIRSVILLE GA 30512\n\n706.745.3638\n\n \n \n\n\nMessage from the coordinator:\n\nPerhaps you know someone who could teach yoga to children? Or breathing exercises? Or art or crafts? Someone that may want to share music in some way? Perhaps someone that would like to donate food or drinks for the event? I have activities that can be provided to anyone that would like to come out for the day or part of the day and share a happy day with our community. No skills required\, except for a hope for a better future.\n\n \n\nPlease let me know if you have any interest in helping or connections that can help with this event. \n\n\n\nnkreisle@safeservices.org
X-ALT-DESC;FMTTYPE=text/html:<span style="color:rgb(75\, 79\, 86)\; font-family:helvetica\,arial\,sans-serif\; font-size:14px">As we enter back into another school year\, with many tragedies from the summer months\, SAFE and supporters offer an event for families\, friends\, and children to enjoy friends\, fishing and fun! Community\, unity\, and understanding of others is the way to build a better future.&nbsp\;</span><br />\n<br />\n<span style="color:rgb(75\, 79\, 86)\; font-family:helvetica\,arial\,sans-serif\; font-size:14px">Please join us for a day of fun and learning about positive choices for our children&#39\;s future!</span><br />\n<br />\n<span style="color:rgb(75\, 79\, 86)\; font-family:helvetica\,arial\,sans-serif\; font-size:14px">Bring a fishing pole for the kiddos to enjoy fishing from the bank.&nbsp\;</span><br />\n<br />\n<span style="color:rgb(75\, 79\, 86)\; font-family:helvetica\,arial\,sans-serif\; font-size:14px">This event is free to the public to enjoy and learn!</span><br />\n<br />\n<span style="color:rgb(75\, 79\, 86)\; font-family:helvetica\,arial\,sans-serif\; font-size:14px">NOTTELY MARINA</span><br />\n<span style="color:rgb(75\, 79\, 86)\; font-family:helvetica\,arial\,sans-serif\; font-size:14px">86 DOUCETTE CIRCLE BLAIRSVILLE GA 30512</span><br />\n<span style="color:rgb(75\, 79\, 86)\; font-family:helvetica\,arial\,sans-serif\; font-size:14px">706.745.3638</span><br />\n&nbsp\;\n<div>&nbsp\;</div>\n\n<div>\n<div><em>Message from the coordinator:<br />\nPerhaps you know someone who could teach yoga to children? Or breathing exercises? Or art or crafts? Someone that may want to share music in some way? Perhaps someone that would like to donate food or drinks for the event? I have activities that can be provided to anyone that would like to come out for the day or part of the day and share a happy day with our community. No skills required\, except for a hope for a better future.</em></div>\n\n<div>&nbsp\;</div>\n\n<div><em>Please let me know if you have any interest in helping or connections that can help with this event.&nbsp\;<br />\n<br />\nnkreisle@safeservices.org</em><br />\n&nbsp\;</div>\n</div>\n&nbsp\;
LOCATION:Nottely Marina\, 86 Doucette Circle\, Blairsville\, GA 30512
UID:e.256.54064
SEQUENCE:3
DTSTAMP:20260420T164709Z
URL:https://members.visitblairsvillega.com/events/details/friendship-festival-08-20-2016-54064
END:VEVENT

END:VCALENDAR
