BEGIN:VCALENDAR
VERSION:2.0
PRODID:-//ChamberMaster//Event Calendar 2.0//EN
METHOD:PUBLISH
X-PUBLISHED-TTL:P3D
REFRESH-INTERVAL:P3D
CALSCALE:GREGORIAN
BEGIN:VEVENT
DTSTART:20151031T220000Z
DTEND:20151101T030000Z
X-MICROSOFT-CDO-ALLDAYEVENT:FALSE
SUMMARY:Fright Night at the Fort
DESCRIPTION:Haunted house that is sure to make you scream! Enter if you dare! Spooktacular kids area with games\, prizes\, and Disney characters! Weave your way through our hay maze and finish the night with a s'more by the fire!
X-ALT-DESC;FMTTYPE=text/html:Haunted house that is sure to make you scream! Enter if you dare! Spooktacular kids area with games\, prizes\, and Disney characters! Weave your way through our hay maze and finish the night with a s&#39\;more by the fire!
LOCATION:Old Fort Sorghum (behind CVS)
UID:e.256.44345
SEQUENCE:3
DTSTAMP:20260423T102758Z
URL:https://members.visitblairsvillega.com/events/details/fright-night-at-the-fort-10-31-2015-44345
END:VEVENT

END:VCALENDAR
