BEGIN:VCALENDAR
VERSION:2.0
PRODID:-//ChamberMaster//Event Calendar 2.0//EN
METHOD:PUBLISH
X-PUBLISHED-TTL:P3D
REFRESH-INTERVAL:P3D
CALSCALE:GREGORIAN
BEGIN:VEVENT
DTSTART:20150822T000000Z
DTEND:20150822T020000Z
X-MICROSOFT-CDO-ALLDAYEVENT:FALSE
SUMMARY:From Earth to the Universe
DESCRIPTION:"From Earth to the Universe" is an awesome voyage through space and time. Featuring a sweeping soundtrack and truly amazing images\, this new full-dome show allows audiences to revel in the splendor of the worlds in our solar system and the ferocity of the scorching Sun. Travel to the colorful birthplaces and cataclysmic burial grounds of the stars. Journey through our Milky Way and discover a myriad of galaxies\, as today's telescopes allow us to probe deeper into the cosmos.
X-ALT-DESC;FMTTYPE=text/html:<span style="font-size: 10pt\;"><span style="font-family: arial\,sans-serif\;"><span style="color: black\;">&ldquo\;From Earth to the Universe&rdquo\; is an awesome voyage through space and time. Featuring a sweeping soundtrack and truly amazing images\, this new full-dome show allows audiences to revel in the splendor of the worlds in our solar system and the ferocity of the scorching Sun. Travel to the colorful birthplaces and cataclysmic burial grounds of the stars. Journey through our Milky Way and discover a myriad of galaxies\, as today&rsquo\;s telescopes allow us to probe deeper into the cosmos.</span></span></span><br />\n&nbsp\;
LOCATION:Young Harris College's O. Wayne Rollins Planetarium
UID:e.256.43442
SEQUENCE:3
DTSTAMP:20260423T134035Z
URL:https://members.visitblairsvillega.com/events/details/from-earth-to-the-universe-08-21-2015-43442
END:VEVENT

END:VCALENDAR
