BEGIN:VCALENDAR
VERSION:2.0
PRODID:-//ChamberMaster//Event Calendar 2.0//EN
METHOD:PUBLISH
X-PUBLISHED-TTL:P3D
REFRESH-INTERVAL:P3D
CALSCALE:GREGORIAN
BEGIN:VEVENT
DTSTART:20150711T220000Z
DTEND:20150712T010000Z
X-MICROSOFT-CDO-ALLDAYEVENT:FALSE
SUMMARY:"Frozen" Daddy Daughter Dance 2015
DESCRIPTION:The Hackney Warehouse presents a "Frozen" Daddy Daughter Dance 2015. Come and dance the night away with your princess ages 1 through 18.  Music provided by DJ Aaron -- catering providing by Chick-Fil-A along with a delicious dessert bar.  Photography provided by Nathan Baerries and Party Planning by Epic.
X-ALT-DESC;FMTTYPE=text/html:The Hackney Warehouse presents a&nbsp\;&quot\;Frozen&quot\; Daddy Daughter Dance 2015.&nbsp\;Come and dance the night away with your princess ages 1 through 18.&nbsp\; Music provided by DJ Aaron -- catering providing by Chick-Fil-A along with a delicious dessert bar.&nbsp\; Photography provided by Nathan Baerries and Party Planning by Epic.
LOCATION:The Hackney Warehouse 11 Railroad Street Murphy\, NC 28906
UID:e.256.40844
SEQUENCE:3
DTSTAMP:20260423T165153Z
URL:https://members.visitblairsvillega.com/events/details/frozen-daddy-daughter-dance-2015-07-11-2015-40844
END:VEVENT

END:VCALENDAR
