BEGIN:VCALENDAR
VERSION:2.0
PRODID:-//ChamberMaster//Event Calendar 2.0//EN
METHOD:PUBLISH
X-PUBLISHED-TTL:P3D
REFRESH-INTERVAL:P3D
CALSCALE:GREGORIAN
BEGIN:VEVENT
DTSTART:20170120T150000Z
DTEND:20170120T164500Z
X-MICROSOFT-CDO-ALLDAYEVENT:FALSE
SUMMARY:Fruit Tree Selection and Maintenance
DESCRIPTION:Dr. David Lockwood\, UGA Extension Fruit Crops and University of Tennessee Extension Fruit & Nut Crops Specialist. Learn what types of fruit trees will grow in this area and how to maintain them. After the seminar\, Ray Covington\, GMREC Superintendent will give a short presentation on pruning fruit trees\, followed by a pruning demonstration in our apple orchard. Please note that the pruning demonstration will require walking outdoors on hills and uneven surfaces. Dress appropriately for the weather.
X-ALT-DESC;FMTTYPE=text/html:Dr. David Lockwood\, UGA Extension Fruit Crops and University of Tennessee Extension Fruit &amp\; Nut Crops Specialist. Learn what types of fruit trees will grow in this area and how to maintain them. After the seminar\, Ray Covington\, GMREC Superintendent will give a short presentation on pruning fruit trees\, followed by a pruning demonstration in our apple orchard. Please note that the pruning demonstration will require walking outdoors on hills and uneven surfaces. Dress appropriately for the weather.
LOCATION:The Georgia Mountain Research & Education Center\, 3 miles south of the Blairsville Square\, on the east side of Hwy 19/129.
UID:e.256.62202
SEQUENCE:3
DTSTAMP:20260420T073752Z
URL:https://members.visitblairsvillega.com/events/details/fruit-tree-selection-and-maintenance-62202
END:VEVENT

END:VCALENDAR
