BEGIN:VCALENDAR
VERSION:2.0
PRODID:-//ChamberMaster//Event Calendar 2.0//EN
METHOD:PUBLISH
X-PUBLISHED-TTL:P3D
REFRESH-INTERVAL:P3D
CALSCALE:GREGORIAN
BEGIN:VEVENT
DTSTART:20160320T150000Z
DTEND:20160320T160000Z
X-MICROSOFT-CDO-ALLDAYEVENT:FALSE
SUMMARY:FUMC Easter Cantata
DESCRIPTION:Come and enjoy the Easter Cantata\, A Living Hope\, sung by FUMC's Sanctuary Choir and led by Jeff Bauman. Come early (9:30am - 10:30am) and enjoy coffee and cinnamon rolls in the MAC. Everyone welcome!
X-ALT-DESC;FMTTYPE=text/html:Come and enjoy the Easter Cantata\, A Living Hope\, sung by FUMC&#39\;s Sanctuary Choir and led by Jeff Bauman. Come early (9:30am - 10:30am) and enjoy coffee and cinnamon rolls in the MAC. Everyone welcome!
LOCATION:FUMC is located on HWY 515 across from Meeks Park
UID:e.256.49995
SEQUENCE:3
DTSTAMP:20260421T021349Z
URL:https://members.visitblairsvillega.com/events/details/fumc-easter-cantata-03-20-2016-49995
END:VEVENT

END:VCALENDAR
