BEGIN:VCALENDAR
VERSION:2.0
PRODID:-//ChamberMaster//Event Calendar 2.0//EN
METHOD:PUBLISH
X-PUBLISHED-TTL:P3D
REFRESH-INTERVAL:P3D
CALSCALE:GREGORIAN
BEGIN:VEVENT
DTSTART:20161021T223000Z
DTEND:20161022T003000Z
X-MICROSOFT-CDO-ALLDAYEVENT:FALSE
SUMMARY:Fun with Yupo
DESCRIPTION:Artist\, Fred Anderson\, will teach you to create one-of-a-kind creations with his fun and easy-to-learn technique using Yupo paper. Yupo paper has a few unique qualities that set it apart. First\, Yupo does not absorb water or paint like traditional canvas\, so you may play and manipulate the paint for longer while creating. Yupo also allows colors to show vibrantly\, allowing your piece to pop! Please bring either watercolor or acrylic paints to class\, as they work best on the Yupo paper. (Yupo paper provided.) Come learn how to use this amazing product with Fred Anderson\, and see why it is becoming so popular among the abstract and impressionistic art communities!
X-ALT-DESC;FMTTYPE=text/html:<span style="font-size:14pt"><span style="font-family:garamond\,serif"><span style="color:black">Artist\, Fred Anderson\, will teach you to create one-of-a-kind creations with his fun and easy-to-learn technique using Yupo paper. Yupo paper has a few unique qualities that set it apart. First\, Yupo does not absorb water or paint like traditional canvas\, so you may play and manipulate the paint for longer while creating. Yupo also allows colors to show vibrantly\, allowing your piece to pop! Please bring either watercolor or acrylic paints to class\, as they work best on the Yupo paper. (Yupo paper provided.) Come learn how to use this amazing product with Fred Anderson\, and see why it is becoming so popular among the abstract and impressionistic art communities!</span></span></span><br />\n&nbsp\;
LOCATION:The Art Center 420 West Main Street Blue Ridge\, GA 30513
UID:e.256.59464
SEQUENCE:3
DTSTAMP:20260420T130611Z
URL:https://members.visitblairsvillega.com/events/details/fun-with-yupo-59464
END:VEVENT

END:VCALENDAR
