BEGIN:VCALENDAR
VERSION:2.0
PRODID:-//ChamberMaster//Event Calendar 2.0//EN
METHOD:PUBLISH
X-PUBLISHED-TTL:P3D
REFRESH-INTERVAL:P3D
CALSCALE:GREGORIAN
BEGIN:VEVENT
DTSTART:20160418T220000Z
DTEND:20160419T010000Z
X-MICROSOFT-CDO-ALLDAYEVENT:FALSE
SUMMARY:FUTURE LEADERS SCHOLARSHIP PUBLIC SPEAKING CONTEST
DESCRIPTION:Union County Republican Party (UCGOP) is sponsoring the Future Leaders Scholarship Public Speaking Contest for high school students in Union County. Preliminary rounds are scheduled for Monday\, April 18 and Tuesday\, April 19 with the finals slated for Thursday\, April 21 at North Georgia Technical College in Blairsville. Initial rounds and the finals begin at 6:00 p.m. and end at 9:00 p.m. Scholarships will be awarded to contest winners in the amounts of: 1st Place: $1000\; 2nd Place: $600\; 3rd Place: $400. Each student will receive a $25 stipend for participating whether he/she wins or not. Speeches must be five to eight minutes long about one of the topics found below.
X-ALT-DESC;FMTTYPE=text/html:<span style="font-family:arial\,sans-serif\;"><span style="font-size:10.0pt\;">Union County Republican Party (UCGOP) is sponsoring the Future Leaders Scholarship Public Speaking Contest for high school students in Union County. Preliminary rounds are scheduled for Monday\, April 18 and Tuesday\, April 19 with the finals slated for Thursday\, April 21 at North Georgia Technical College in Blairsville.</span></span><span style="font-family:arial\,sans-serif\;"><span style="font-size:10.0pt\;"> Initial rounds and the finals begin at 6:00 p.m. and end at 9:00 p.m. Scholarships will be awarded to contest winners in the amounts of: 1<sup>st</sup> Place: $1000\; 2<sup>nd</sup> Place: $600\; 3<sup>rd</sup> Place: $400. Each student will receive a $25 stipend for participating whether he/she wins or not. Speeches must be five to eight minutes long about one of the topics found below. </span></span><br />\n<br />\n&nbsp\;
LOCATION:North Georgia Technical College Blairsville Campus
UID:e.256.50639
SEQUENCE:3
DTSTAMP:20260421T002454Z
URL:https://members.visitblairsvillega.com/events/details/future-leaders-scholarship-public-speaking-contest-04-18-2016-50639
END:VEVENT

END:VCALENDAR
