BEGIN:VCALENDAR
VERSION:2.0
PRODID:-//ChamberMaster//Event Calendar 2.0//EN
METHOD:PUBLISH
X-PUBLISHED-TTL:P3D
REFRESH-INTERVAL:P3D
CALSCALE:GREGORIAN
BEGIN:VEVENT
DTSTART:20140816T130000Z
DTEND:20140816T180000Z
X-MICROSOFT-CDO-ALLDAYEVENT:FALSE
SUMMARY:GA CHIP Program
DESCRIPTION:Saturday\, August 16\, 2014\n\n9am - 2pm\n\nHaralson Memorial Civic Center\n\n165 Welborn Street\, Blairsville\, GA\n\n\n\nGeorgia Masons provide the GA CHIP program FREE of charge as a public service and as our gift to the citizens of our state.\n\nAt a GA CHIP event\, Freemasons set up the equipment necessary\, to generate completed identification kits. Each person progresses through stations taking about 10 to 15 minutes for the entire process. The recorded information is presented to the child's parent or guardian to take home for safekeeping. There is no age limit!\n\n\n\n"Child Safety Seat Check and Demonstration by the GA State Patrol Troopers"
X-ALT-DESC;FMTTYPE=text/html:Saturday\, August 16\, 2014<br />\n9am - 2pm<br />\nHaralson Memorial Civic Center<br />\n165 Welborn Street\, Blairsville\, GA<br />\n<br />\nGeorgia Masons provide the GA CHIP program FREE of charge as a public service and as our gift to the citizens of our state.<br />\nAt a GA CHIP event\, Freemasons set up the equipment necessary\, to generate completed identification kits. Each person progresses through stations taking about 10 to 15 minutes for the entire process. The recorded information is presented to the child&#39\;s parent or guardian to take home for safekeeping. There is no age limit!<br />\n<br />\n&quot\;Child Safety Seat Check and Demonstration by the GA State Patrol Troopers&quot\;<br />\n&nbsp\;
LOCATION:Haralson Memorial Civic Center 165 Welborn Street Blairsville\, GA
UID:e.256.25385
SEQUENCE:3
DTSTAMP:20260424T073442Z
URL:https://members.visitblairsvillega.com/events/details/ga-chip-program-08-16-2014-25385
END:VEVENT

END:VCALENDAR
