BEGIN:VCALENDAR
VERSION:2.0
PRODID:-//ChamberMaster//Event Calendar 2.0//EN
METHOD:PUBLISH
X-PUBLISHED-TTL:P3D
REFRESH-INTERVAL:P3D
CALSCALE:GREGORIAN
BEGIN:VEVENT
DTSTART:20160825T210000Z
DTEND:20160825T230000Z
X-MICROSOFT-CDO-ALLDAYEVENT:FALSE
SUMMARY:GA DOT Comment Meeting-Bridge closing
DESCRIPTION:The GA DOT is conducting a 'comment' meeting on August 25 from 5-7 pm at the Woody Gap School concerning the proposed repair of a bridge on Hwy\n\n180 which will cause the bridge to be closed for at least one year. \n\nNeedless to say this will cause great hardship to the residents in the Suches area and will have an economic impact not only on the Suches area but also Blairsville.\n\nObviously\, if the bridge needs repair\, we want to make sure that those who travel Hwy 180 do so safely\, but is there a way to repair the bridge without having to shut it down for a year?\n\nWe believe that the residents of Union County need to make their views concerning the proposed bridge closing to the GA DOT.
X-ALT-DESC;FMTTYPE=text/html:The GA DOT is conducting a &#39\;comment&#39\; meeting on August 25 from 5-7 pm at the Woody Gap School concerning the proposed repair of a bridge on Hwy<br />\n180 which will cause the bridge to be closed for at least one year.&nbsp\;<br />\nNeedless to say this will cause great hardship to the residents in the Suches area and will have an economic impact not only on the Suches area but also Blairsville.<br />\nObviously\, if the bridge needs repair\, we want to make sure that those who travel Hwy 180 do so safely\, but is there a way to repair the bridge without having to shut it down for a year?<br />\n<span style="font-family:calibri\,sans-serif\;"><span style="font-size:11.0pt\;">We believe that the residents of Union County need to make their views concerning the proposed bridge closing to the GA DOT.&nbsp\;&nbsp\;</span></span>
LOCATION:Woody Gap School\, Suches Ga
UID:e.256.56717
SEQUENCE:3
DTSTAMP:20260420T181950Z
URL:https://members.visitblairsvillega.com/events/details/ga-dot-comment-meeting-bridge-closing-08-25-2016-56717
END:VEVENT

END:VCALENDAR
