BEGIN:VCALENDAR
VERSION:2.0
PRODID:-//ChamberMaster//Event Calendar 2.0//EN
METHOD:PUBLISH
X-PUBLISHED-TTL:P3D
REFRESH-INTERVAL:P3D
CALSCALE:GREGORIAN
BEGIN:VEVENT
DTSTART:20160609T150000Z
DTEND:20160609T190000Z
X-MICROSOFT-CDO-ALLDAYEVENT:FALSE
SUMMARY:Ga Mtns Regional Commission Workforce Development Mobile Career Coach
DESCRIPTION:The unit will be available to assist individuals with searching and/or applying for jobs online\, writing a resume and/or cover letter\, discerning career interests\, or would like to learn about tuition assistance and on-the-job training programs\, please stop by! Please share this event with anyone you know that might benefit from our services.
X-ALT-DESC;FMTTYPE=text/html:<span style="font-family: calibri\;"><span style="font-size: 12pt\;">The unit will be available to assist individuals with <span style="color: black\;">searching and/or applying for jobs online\, writing a resume and/or cover letter\, discerning career interests\, or would like to learn about tuition assistance and on-the-job training programs\, please stop by! Please share this event with anyone you know that might benefit from our services. </span></span></span><br />\n&nbsp\;
LOCATION:St. Francis of Assisi 3717 GA-515 Blairsville\, GA 30512.
UID:e.256.51272
SEQUENCE:3
DTSTAMP:20260420T222657Z
URL:https://members.visitblairsvillega.com/events/details/ga-mtns-regional-commission-workforce-development-mobile-career-coach-06-09-2016-51272
END:VEVENT

END:VCALENDAR
