BEGIN:VCALENDAR
VERSION:2.0
PRODID:-//ChamberMaster//Event Calendar 2.0//EN
METHOD:PUBLISH
X-PUBLISHED-TTL:P3D
REFRESH-INTERVAL:P3D
CALSCALE:GREGORIAN
BEGIN:VEVENT
DTSTART:20160124T210000Z
DTEND:20160124T220000Z
X-MICROSOFT-CDO-ALLDAYEVENT:FALSE
SUMMARY:GA ?Nature?s Healing Gift? PlantPure Pod Group
DESCRIPTION:This group connects people who either have adopted a plant based diet or others who are interested/curious to know more about this lifestyle.  We seek to promote and educate the community about the numerous benefits of eating Plant Based.\n\n\n\nWe will have a Vegan dessert at our meeting and we encourage you to do the same if you can or just bring some fruit as a fun snack. This meeting is all about getting to know each other and discussing how we can proceed. \n\n \n\nWe will meet monthly\, so if you can't make it this time\, there's always next month.\n\n\n\nPlease go to:\n\nhttp://www.plantpurepods.com/podsdirect/blairsville-ga-natures-healing-gift-group/\n\nto register and join our group.\n\n \n\nEveryone is welcome!
X-ALT-DESC;FMTTYPE=text/html:<span style="font-size:12px\;"><span style="font-family: arial\,sans-serif\;">This group connects people who either have adopted a plant based diet or others who are interested/curious to know more about this lifestyle.</span>&nbsp\; <span style="font-family: arial\,sans-serif\;">We seek to promote and educate the community about the numerous benefits of eating Plant Based.</span><br />\n<br />\n<span style="font-family: arial\,sans-serif\;">We will have a Vegan dessert at our meeting and we encourage you to do the same if you can or just bring some fruit as a fun snack.</span> T<span style="font-family: arial\,sans-serif\;">his meeting is all about getting to know each other and discussing how we can proceed. </span><br />\n&nbsp\;<br />\n<span style="font-family: arial\,sans-serif\;">We will meet monthly\, so if you can&rsquo\;t make it this time\, there&rsquo\;s always next month.</span><br />\n<br />\n<span style="font-family: arial\,sans-serif\;">Please go to</span>:<br />\n<a href="http://www.plantpurepods.com/podsdirect/blairsville-ga-natures-healing-gift-group/"><span style="font-family: arial\,sans-serif\;">http://www.plantpurepods.com/podsdirect/blairsville-ga-natures-healing-gift-group/</span></a><br />\n<span style="font-family: arial\,sans-serif\;">to register and join our group.</span><br />\n&nbsp\;<br />\n<span style="font-family: arial\,sans-serif\;">Everyone is welcome!</span></span><br />\n&nbsp\;
LOCATION:Mountain Yoga and Massage Studio 98 Cleveland St. Blairsville GA
UID:e.256.48128
SEQUENCE:3
DTSTAMP:20260421T060151Z
URL:https://members.visitblairsvillega.com/events/details/ga-nature-s-healing-gift-plantpure-pod-group-01-24-2016-48128
END:VEVENT

END:VCALENDAR
