BEGIN:VCALENDAR
VERSION:2.0
PRODID:-//ChamberMaster//Event Calendar 2.0//EN
METHOD:PUBLISH
X-PUBLISHED-TTL:P3D
REFRESH-INTERVAL:P3D
CALSCALE:GREGORIAN
BEGIN:VEVENT
DTSTART:20160619T180000Z
DTEND:20160620T010000Z
X-MICROSOFT-CDO-ALLDAYEVENT:FALSE
SUMMARY:Galaxy Bowling Father's Day Special
DESCRIPTION:All Dad's bowl free!  This does not include shoe rental and can not be combined with any other offers\, specials\, or coupons.
X-ALT-DESC;FMTTYPE=text/html:All Dad&#39\;s bowl free! &nbsp\;This does not include shoe rental and can not be combined with any other offers\, specials\, or coupons.
LOCATION:104 Backyard Ln Blairsville\, Ga 30512
UID:e.256.52374
SEQUENCE:3
DTSTAMP:20260420T203826Z
URL:https://members.visitblairsvillega.com/events/details/galaxy-bowling-father-s-day-special-06-19-2016-52374
END:VEVENT

END:VCALENDAR
