BEGIN:VCALENDAR
VERSION:2.0
PRODID:-//ChamberMaster//Event Calendar 2.0//EN
METHOD:PUBLISH
X-PUBLISHED-TTL:P3D
REFRESH-INTERVAL:P3D
CALSCALE:GREGORIAN
BEGIN:VEVENT
DTSTART:20170211T190000Z
DTEND:20170211T210000Z
X-MICROSOFT-CDO-ALLDAYEVENT:FALSE
SUMMARY:Galentine’s Day Party @ 2pm
DESCRIPTION:Ladies celebrating each other!\n\nValentine Beautified\n\nDiscover the best regimen & shade for your complexion.\n\n== Schedule a FREE Facial & Makeup Consultation ==\n\nLocation: My Studio - Directions will be PMed\n\n10% of total sales will go towards the Adopt-a-Grandparent Community Outreach Program 2017\n\nFebruary 11th Sat 10am-12pm or 2pm-4pm\n\n******** Snacks Sips & Shades ******** \n\nMake time for yourself\n\nShare it with a friend to receive a special gift. Bring three friends and receive one spin on my prize wheel for A FREE product.\n\nTry it all for free\, call today to schedule your time. This is a new year - it's time for you!!!\n\nCALL TODAY 706.897.0245
X-ALT-DESC;FMTTYPE=text/html:<span style="color:rgb(75\, 79\, 86)\; font-family:helvetica neue\,helvetica\,arial\,sans-serif\; font-size:14px">Ladies celebrating each other!</span><br />\n<span style="color:rgb(75\, 79\, 86)\; font-family:helvetica neue\,helvetica\,arial\,sans-serif\; font-size:14px">Valentine Beautified</span><br />\n<span style="color:rgb(75\, 79\, 86)\; font-family:helvetica neue\,helvetica\,arial\,sans-serif\; font-size:14px">Discover the best regimen &amp\; shade for your complexion.</span><br />\n<span style="color:rgb(75\, 79\, 86)\; font-family:helvetica neue\,helvetica\,arial\,sans-serif\; font-size:14px">== Schedule a FREE Facial &amp\; Makeup Consultation ==</span><br />\n<span style="color:rgb(75\, 79\, 86)\; font-family:helvetica neue\,helvetica\,arial\,sans-serif\; font-size:14px">Location: My Studio - Directions will be PMed</span><br />\n<span style="color:rgb(75\, 79\, 86)\; font-family:helvetica neue\,helvetica\,arial\,sans-serif\; font-size:14px">10% of total sales will go towards the Adopt-a-Grandparent Community Outreach Program 2017</span><br />\n<span style="color:rgb(75\, 79\, 86)\; font-family:helvetica neue\,helvetica\,arial\,sans-serif\; font-size:14px">February 11th Sat 10am-12pm or 2pm-4pm</span><br />\n<span style="color:rgb(75\, 79\, 86)\; font-family:helvetica neue\,helvetica\,arial\,sans-serif\; font-size:14px">******** Snacks Sips &amp\; Shades ********&nbsp\;</span><br />\n<span style="color:rgb(75\, 79\, 86)\; font-family:helvetica neue\,helvetica\,arial\,sans-serif\; font-size:14px">Make time for yourself</span><br />\n<span style="color:rgb(75\, 79\, 86)\; font-family:helvetica neue\,helvetica\,arial\,sans-serif\; font-size:14px">Share it with a friend to receive a special gift. Bring three friends and receive one spin on my prize wheel for A FREE product.</span><br />\n<span style="color:rgb(75\, 79\, 86)\; font-family:helvetica neue\,helvetica\,arial\,sans-serif\; font-size:14px">Try it all for free\, call today to schedule your time. This is a new year - it&#39\;s time for you!!!</span><br />\n<span style="color:rgb(75\, 79\, 86)\; font-family:helvetica neue\,helvetica\,arial\,sans-serif\; font-size:14px">CALL TODAY 706.897.0245</span>
LOCATION:My Studio Call\, Text or email your RSVP and I'll be sure to send you directions 706.897.0245
UID:e.256.65481
SEQUENCE:3
DTSTAMP:20260420T061231Z
URL:https://members.visitblairsvillega.com/events/details/galentine-s-day-party-10am-or-2pm-02-11-2017-65481
END:VEVENT

END:VCALENDAR
