BEGIN:VCALENDAR
VERSION:2.0
PRODID:-//ChamberMaster//Event Calendar 2.0//EN
METHOD:PUBLISH
X-PUBLISHED-TTL:P3D
REFRESH-INTERVAL:P3D
CALSCALE:GREGORIAN
BEGIN:VEVENT
DTSTART:20170308T213000Z
DTEND:20170309T003000Z
X-MICROSOFT-CDO-ALLDAYEVENT:FALSE
SUMMARY:Garden Brothers Circus - CANCELLED
DESCRIPTION:Garden Bros Circus Location: Blairsville\, GA Day/Date: Wednesday\, March 8\, 2017 Show times: 4:30 & 7:30 p.m. GARDEN BROTHERS CIRCUS celebrates 100 years entertaining families throughout North America. Last chance to see Elephants live! 'Motorcycle Madness' has motorcycle daredevils somersaulting and spinning in a big Globe of Doom\; Chinese Acrobats\, the Human Slingshot\, Racing Camels\, crazy comedy with Circus Clowns\, daring aerialists\; cirque artists. Its 1  hours of excitement and fun at GARDEN BROTHERS CIRCUS. Free children's tickets have been distributed at all elementary schools\, pre-schools\, day care centers and churches. The Free Tickets are also available at sponsoring businesses in the area. First one hundred adult tickets sold online are only $9.95 at www.GardenBrosCircus.com Thank You! http://www.gardenbroscircus.com/
X-ALT-DESC;FMTTYPE=text/html:Garden Bros Circus Location: Blairsville\, GA Day/Date: Wednesday\, March 8\, 2017 Show times: 4:30 &amp\; 7:30 p.m. GARDEN BROTHERS CIRCUS celebrates 100 years entertaining families throughout North America. Last chance to see Elephants live! &lsquo\;Motorcycle Madness&rsquo\; has motorcycle daredevils somersaulting and spinning in a big Globe of Doom\; Chinese Acrobats\, the Human Slingshot\, Racing Camels\, crazy comedy with Circus Clowns\, daring aerialists\; cirque artists. Its 1&frac12\; hours of excitement and fun at GARDEN BROTHERS CIRCUS. Free children&rsquo\;s tickets have been distributed at all elementary schools\, pre-schools\, day care centers and churches. The Free Tickets are also available at sponsoring businesses in the area. First one hundred adult tickets sold online are only $9.95 at www.GardenBrosCircus.com Thank You! http://www.gardenbroscircus.com/
LOCATION:Union County Saddle Club Arena 401 Nottely Dam Rd
UID:e.256.67485
SEQUENCE:3
DTSTAMP:20260420T055944Z
URL:https://members.visitblairsvillega.com/events/details/garden-brothers-circus-cancelled-67485
END:VEVENT

END:VCALENDAR
