BEGIN:VCALENDAR
VERSION:2.0
PRODID:-//ChamberMaster//Event Calendar 2.0//EN
METHOD:PUBLISH
X-PUBLISHED-TTL:P3D
REFRESH-INTERVAL:P3D
CALSCALE:GREGORIAN
BEGIN:VEVENT
DTSTART:20140623T130000Z
DTEND:20140623T170000Z
X-MICROSOFT-CDO-ALLDAYEVENT:FALSE
SUMMARY:Garden Tours at GA Mountain Research and Education Center
DESCRIPTION:Garden Tours\n\non the grounds of the Georgia Mountain Research and Education Center\n\n195 GA Mountain Experiment Station Rd.\n\nBlairsville\, GA\n\n\n\nMondays from May 5 - September 29\n\n9:00am - 1:00pm\n\n \n\n	Ethnobotanic Gardens\n	Woodland Medicine Trails\n	Historic Cannery and CCC Camp
X-ALT-DESC;FMTTYPE=text/html:<strong><span style="font-size: 14px\;"><span style="font-family: comic sans ms\;">Garden Tours</span></span></strong><br />\non the grounds of the Georgia Mountain Research and Education Center<br />\n195 GA Mountain Experiment Station Rd.<br />\nBlairsville\, GA<br />\n<br />\nMondays from May 5 - September 29<br />\n9:00am - 1:00pm<br />\n&nbsp\;\n<ul>\n	<li>Ethnobotanic Gardens</li>\n	<li>Woodland Medicine Trails</li>\n	<li>Historic&nbsp\;Cannery and CCC Camp</li>\n</ul>\n<br />\n<br />\n<br />\n&nbsp\;
LOCATION:Georgia Mountain Research and Education Center 195 GA Mountain Experiment Station Rd Blairsville\, GA
UID:e.256.24319
SEQUENCE:3
DTSTAMP:20260424T122756Z
URL:https://members.visitblairsvillega.com/events/details/garden-tours-at-ga-mountain-research-and-education-center-06-23-2014-24319
END:VEVENT

END:VCALENDAR
