BEGIN:VCALENDAR
VERSION:2.0
PRODID:-//ChamberMaster//Event Calendar 2.0//EN
METHOD:PUBLISH
X-PUBLISHED-TTL:P3D
REFRESH-INTERVAL:P3D
CALSCALE:GREGORIAN
BEGIN:VEVENT
DTSTART:20140309T003000Z
DTEND:20140309T030000Z
X-MICROSOFT-CDO-ALLDAYEVENT:FALSE
SUMMARY:Gary Puckett and the Union Station
DESCRIPTION:GARY PUCKETT and the UNION GAP was one of the most successful musical groups of the sixties. Gary's unmistakable signature voice garnered six consecutive gold records and top ten Billboard hits with the following titles: "YOUNG GIRL" - "WOMAN WOMAN" - "LADY WILLPOWER" - "OVER YOU" - "THIS GIRL IS A WOMAN NOW" - "KEEP THE CUSTOMER SATISFIED" - "DON'T GIVE IN TO HIM" - "HOME"
X-ALT-DESC;FMTTYPE=text/html:GARY PUCKETT and the UNION GAP was one of the most successful musical groups of the sixties. Gary&#39\;s unmistakable signature voice garnered six consecutive gold records and top ten Billboard hits with the following titles: &quot\;YOUNG GIRL&quot\; - &quot\;WOMAN WOMAN&quot\; - &quot\;LADY WILLPOWER&quot\; - &quot\;OVER YOU&quot\; - &quot\;THIS GIRL IS A WOMAN NOW&quot\; - &quot\;KEEP THE CUSTOMER SATISFIED&quot\; - &quot\;DON&#39\;T GIVE IN TO HIM&quot\; - &quot\;HOME&quot\;
LOCATION:Smoky Mountain Center for the Performing Arts - 1028 Georgia Road Franklin\, NC 28734
UID:e.256.22939
SEQUENCE:3
DTSTAMP:20260424T164716Z
URL:https://members.visitblairsvillega.com/events/details/gary-puckett-and-the-union-station-03-08-2014-22939
END:VEVENT

END:VCALENDAR
