BEGIN:VCALENDAR
VERSION:2.0
PRODID:-//ChamberMaster//Event Calendar 2.0//EN
METHOD:PUBLISH
X-PUBLISHED-TTL:P3D
REFRESH-INTERVAL:P3D
CALSCALE:GREGORIAN
BEGIN:VEVENT
DTSTART:20150515T160000Z
DTEND:20150515T180000Z
X-MICROSOFT-CDO-ALLDAYEVENT:FALSE
SUMMARY:Gathering of Hope Women's Luncheon
DESCRIPTION:Neighbor's Hand is hosting a women's luncheon to raise awareness and resources for two women's homes set to open this year. \n\n\n\nAs a woman of influence\, you have the ability to make a difference in another family's life. This gathering will give you the opportunity to hear our strategy for opening homes for women in need and pledge your resources towards its success.\n\n\n\nLunch is $10\n\nMenu: Sandwich\, Salad\, and Soup provided by G-n-G Bakery\n\n\n\nRSVP by phone or online. \n\n706-745-4673\n\nwww.neighborshand.org/hope
X-ALT-DESC;FMTTYPE=text/html:<span style="color: rgb(20\, 24\, 35)\; font-family: helvetica\,arial\,lucida grande\,sans-serif\; font-size: 14px\;">Neighbor&#39\;s Hand is hosting a women&#39\;s luncheon to raise awareness and resources for two women&#39\;s homes set to open this year.&nbsp\;</span><br />\n<br />\n<span style="color: rgb(20\, 24\, 35)\; font-family: helvetica\,arial\,lucida grande\,sans-serif\; font-size: 14px\;">As a woman of influence\, you have the ability to make a difference in another family&rsquo\;s life. This gathering will give you the opportunity to hear our strategy for opening homes for women in need and pledge your resources towards its success.</span><br />\n<br />\n<span style="color: rgb(20\, 24\, 35)\; font-family: helvetica\,arial\,lucida grande\,sans-serif\; font-size: 14px\;">Lunch is $10</span><br />\n<span style="color: rgb(20\, 24\, 35)\; font-family: helvetica\,arial\,lucida grande\,sans-serif\; font-size: 14px\;">Menu: Sandwich\, Salad\, and Soup provided by G-n-G Bakery</span><br />\n<br />\n<span style="color: rgb(20\, 24\, 35)\; font-family: helvetica\,arial\,lucida grande\,sans-serif\; font-size: 14px\;">RSVP by phone or online.&nbsp\;</span><br />\n<span style="color: rgb(20\, 24\, 35)\; font-family: helvetica\,arial\,lucida grande\,sans-serif\; font-size: 14px\;">706-745-4673</span><br />\n<a href="http://l.facebook.com/l.php?u=http%3A%2F%2Fwww.neighborshand.org%2Fhope&amp\;h=0AQFqXWfy&amp\;enc=AZNeNh7HdxQh6v4rmqIf6HzVWnHuwEN_cHnWiqA-tkYVbJVCP7WnQTE3j08oz0opVhU&amp\;s=1" rel="nofollow nofollow" style="color: rgb(59\, 89\, 152)\; line-height: 18.76px\; font-family: helvetica\, arial\, &quot\;lucida grande&quot\;\, sans-serif\; font-size: 14px\; text-decoration: none\; cursor: pointer\;" target="_blank">www.neighborshand.org/hope</a>
LOCATION:UCBI Brackett's Room
UID:e.256.40273
SEQUENCE:3
DTSTAMP:20260423T182758Z
URL:https://members.visitblairsvillega.com/events/details/gathering-of-hope-women-s-luncheon-05-15-2015-40273
END:VEVENT

END:VCALENDAR
