BEGIN:VCALENDAR
VERSION:2.0
PRODID:-//ChamberMaster//Event Calendar 2.0//EN
METHOD:PUBLISH
X-PUBLISHED-TTL:P3D
REFRESH-INTERVAL:P3D
CALSCALE:GREGORIAN
BEGIN:VEVENT
DTSTART:20140913T220000Z
DTEND:20140914T000000Z
X-MICROSOFT-CDO-ALLDAYEVENT:FALSE
SUMMARY:Generation Life - A Message of Healing
DESCRIPTION:This national event honors the grave sites across America of our unborn brothers and sisters. Two events will happen in Blairsville: An ecumenical service with prayer for victims of abortion\, healing for mothers and fathers\, and conversion of abortion workers and our nation. An evening event for teens and young adults will include talks by several women who have experienced abortion and share their stories of healing.
X-ALT-DESC;FMTTYPE=text/html:This national event honors the grave sites across America of our unborn brothers and sisters. Two events will happen in Blairsville: An ecumenical service with prayer for victims of abortion\, healing for mothers and fathers\, and conversion of abortion workers and our nation. An evening event for teens and young adults will include talks by several women who have experienced abortion and share their stories of healing.
LOCATION:St. Francis of Assisi Catholic Church 3717 Hwy 515 East Blairsville\, GA 30512
UID:e.256.27276
SEQUENCE:3
DTSTAMP:20260424T073901Z
URL:https://members.visitblairsvillega.com/events/details/generation-life-a-message-of-healing-09-13-2014-27276
END:VEVENT

END:VCALENDAR
