BEGIN:VCALENDAR
VERSION:2.0
PRODID:-//ChamberMaster//Event Calendar 2.0//EN
METHOD:PUBLISH
X-PUBLISHED-TTL:P3D
REFRESH-INTERVAL:P3D
CALSCALE:GREGORIAN
BEGIN:VEVENT
DTSTART:20151003T120000Z
DTEND:20151003T213000Z
X-MICROSOFT-CDO-ALLDAYEVENT:FALSE
SUMMARY:Georgia ForestWatch Fall Retreat
DESCRIPTION:We hope you will join us this year at the Georgia ForestWatch Fall Retreat & Annual Membership Meeting at the beautiful Vogel State Park. Everyone is welcome! We have many fun activities and amazing speakers lined up\, as well as wonderful food and music. Come see for yourself!\n\n \n\nSaturday activities start at 10:00am. The theme for our 2015 retreat is Protecting Georgia's Mountain Treasures. The revision process of the current Forest Plan for the Chattahoochee-Oconee National Forests will begin in less than two years. A panel of experts will discuss challenges we may face and what ForestWatch can do to protect Georgia's special places.
X-ALT-DESC;FMTTYPE=text/html:<span style="font-size: 11pt\;"><span style="font-family: arial\,sans-serif\;"><span style="color: rgb(85\, 85\, 85)\;">We hope you will join us this year at the Georgia ForestWatch Fall Retreat &amp\; Annual Membership Meeting at the beautiful Vogel State Park.&nbsp\;<strong><span style="font-family: arial\,sans-serif\;">Everyone is welcome!&nbsp\;</span></strong>We have many fun activities and amazing speakers lined up\, as well as wonderful food and music. Come see for yourself!</span></span></span><br />\n&nbsp\;<br />\n<span style="font-size: 11pt\;"><span style="font-family: arial\,sans-serif\;"><span style="color: rgb(85\, 85\, 85)\;">Saturday activities start at 10:00am. The theme for our 2015 retreat is&nbsp\;<strong><em><span style="font-family: arial\,sans-serif\;">Protecting Georgia&#39\;s Mountain Treasures</span></em></strong>. The revision process of the current Forest Plan for the Chattahoochee-Oconee National Forests will begin in less than two years. A panel of experts will discuss challenges we may face and what ForestWatch can do to protect Georgia&#39\;s special places.</span></span></span>
LOCATION:Vogel State Park
UID:e.256.44257
SEQUENCE:3
DTSTAMP:20260423T103025Z
URL:https://members.visitblairsvillega.com/events/details/georgia-forestwatch-fall-retreat-10-03-2015-44257
END:VEVENT

END:VCALENDAR
