BEGIN:VCALENDAR
VERSION:2.0
PRODID:-//ChamberMaster//Event Calendar 2.0//EN
METHOD:PUBLISH
X-PUBLISHED-TTL:P3D
REFRESH-INTERVAL:P3D
CALSCALE:GREGORIAN
BEGIN:VEVENT
DTSTART:20160806T150000Z
DTEND:20160806T190000Z
X-MICROSOFT-CDO-ALLDAYEVENT:FALSE
SUMMARY:Georgia Mountain Bridal Show
DESCRIPTION:An exciting day that will inspire brides and grooms to plan their unique destination wedding in the North Georgia Mountains.  Beautiful fashions\, elegant gifts\, and classic menus presented by talented area businesses will be showcased throughout the day.
X-ALT-DESC;FMTTYPE=text/html:An exciting day that will inspire brides and grooms to plan their unique destination wedding in the North Georgia Mountains.&nbsp\; Beautiful fashions\, elegant gifts\, and classic menus presented by talented area businesses will be showcased throughout the day.
LOCATION:Union County Community Center 129 Union County Recreation Rd Blairsville\, GA 30512
UID:e.256.54025
SEQUENCE:3
DTSTAMP:20260420T184111Z
URL:https://members.visitblairsvillega.com/events/details/georgia-mountain-bridal-show-08-06-2016-54025
END:VEVENT

END:VCALENDAR
