BEGIN:VCALENDAR
VERSION:2.0
PRODID:-//ChamberMaster//Event Calendar 2.0//EN
METHOD:PUBLISH
X-PUBLISHED-TTL:P3D
REFRESH-INTERVAL:P3D
CALSCALE:GREGORIAN
BEGIN:VEVENT
DTSTART;VALUE=DATE:20140724
DTEND;VALUE=DATE:20140725
TRANSP:TRANSPARENT
X-MICROSOFT-CDO-ALLDAYEVENT:TRUE
SUMMARY:Georgia Mountain Fair
DESCRIPTION:Georgia Mountain Fair\n\nJuly 18 - 26\, 2014\n\nGeorgia Mountain Fairgrounds\n\nHwy 76\, west of Hiawassee\, GA\n\n\n\nArts & Crafts Monday - Saturday 10am - 8pm\, Sunday 10am - 6pm\n\nEntertainment Daily\n\n5th Annual Cooking Contest - Tuesday\, July 22\n\nPioneer Village\n\nAuthentic Demonstrations\n\nSorry\, No Pets Allowed
X-ALT-DESC;FMTTYPE=text/html:Georgia Mountain Fair<br />\nJuly 18 - 26\, 2014<br />\nGeorgia Mountain Fairgrounds<br />\nHwy 76\, west of Hiawassee\, GA<br />\n<br />\nArts &amp\; Crafts Monday - Saturday 10am - 8pm\, Sunday 10am - 6pm<br />\nEntertainment Daily<br />\n5th Annual Cooking Contest - Tuesday\, July 22<br />\nPioneer Village<br />\nAuthentic Demonstrations<br />\nSorry\, No Pets Allowed
LOCATION:Georgia Mountain Fairgrounds Hwy 76 West of Hiawassee\, GA
UID:e.256.23528
SEQUENCE:3
DTSTAMP:20260424T105008Z
URL:https://members.visitblairsvillega.com/events/details/georgia-mountain-fair-07-24-2014-23528
END:VEVENT

END:VCALENDAR
