BEGIN:VCALENDAR
VERSION:2.0
PRODID:-//ChamberMaster//Event Calendar 2.0//EN
METHOD:PUBLISH
X-PUBLISHED-TTL:P3D
REFRESH-INTERVAL:P3D
CALSCALE:GREGORIAN
BEGIN:VEVENT
DTSTART:20171017T140000Z
DTEND:20171017T230000Z
X-MICROSOFT-CDO-ALLDAYEVENT:FALSE
SUMMARY:Georgia Mountain Fall Festival
DESCRIPTION:Enjoy the Fall Festival at the Georgia Mountain Fairgrounds in Hiawassee. Music\, Arts & Crafts\, Food and Exhibits
X-ALT-DESC;FMTTYPE=text/html:Enjoy the Fall Festival at the Georgia Mountain Fairgrounds in Hiawassee. Music\, Arts &amp\; Crafts\, Food and Exhibits
LOCATION:Georgia Mountain Fairgrounds 1311 Music Hall Road\, Hwy 76 W Hiawassee\, GA 30546
UID:e.256.76188
SEQUENCE:3
DTSTAMP:20260419T160200Z
URL:https://members.visitblairsvillega.com/events/details/georgia-mountain-fall-festival-10-17-2017-76188
END:VEVENT

END:VCALENDAR
