BEGIN:VCALENDAR
VERSION:2.0
PRODID:-//ChamberMaster//Event Calendar 2.0//EN
METHOD:PUBLISH
X-PUBLISHED-TTL:P3D
REFRESH-INTERVAL:P3D
CALSCALE:GREGORIAN
BEGIN:VEVENT
DTSTART:20150329T190000Z
DTEND:20150329T210000Z
X-MICROSOFT-CDO-ALLDAYEVENT:FALSE
SUMMARY:Georgia Mountain Passion Play
DESCRIPTION:Georgia Mountain Passion Play \n\n\n\nThe church will have a nursery available for children 5 and under at the 3 PM performances (Saturday and Sunday) only.
X-ALT-DESC;FMTTYPE=text/html:<span style="font-size: medium\;"><span style="font-family: times new roman\;">Georgia Mountain&nbsp\;Passion Play&nbsp\;<br />\n<br />\nThe church will have a nursery available for children 5 and under at the 3 PM performances (Saturday and Sunday)&nbsp\;only.</span></span><br />\n&nbsp\;
LOCATION:First Baptist Church of Blairsville
UID:e.256.37716
SEQUENCE:3
DTSTAMP:20260423T211928Z
URL:https://members.visitblairsvillega.com/events/details/georgia-mountain-passion-play-03-29-2015-37716
END:VEVENT

END:VCALENDAR
