BEGIN:VCALENDAR
VERSION:2.0
PRODID:-//ChamberMaster//Event Calendar 2.0//EN
METHOD:PUBLISH
X-PUBLISHED-TTL:P3D
REFRESH-INTERVAL:P3D
CALSCALE:GREGORIAN
BEGIN:VEVENT
DTSTART:20170402T190000Z
DTEND:20170402T210000Z
X-MICROSOFT-CDO-ALLDAYEVENT:FALSE
SUMMARY:Georgia Mountain Passion Play
DESCRIPTION:Come see the ministry of Jesus -- His life\, death and resurrection -- through the eyes of Nicademus\, Joseph of Arimathea\, and Joseph's family as they struggle to understand the Jesus' identity. Come and be amazed how much God loves you!
X-ALT-DESC;FMTTYPE=text/html:Come see the ministry of Jesus -- His life\, death and resurrection -- through the eyes of Nicademus\, Joseph of Arimathea\, and Joseph&#39\;s family as they struggle to understand the Jesus&#39\; identity. Come and be amazed how much God loves you!
LOCATION:First Baptist Church of Blairsville
UID:e.256.69999
SEQUENCE:3
DTSTAMP:20260420T034742Z
URL:https://members.visitblairsvillega.com/events/details/georgia-mountain-passion-play-04-02-2017-69999
END:VEVENT

END:VCALENDAR
