BEGIN:VCALENDAR
VERSION:2.0
PRODID:-//ChamberMaster//Event Calendar 2.0//EN
METHOD:PUBLISH
X-PUBLISHED-TTL:P3D
REFRESH-INTERVAL:P3D
CALSCALE:GREGORIAN
BEGIN:VEVENT
DTSTART:20140412T190000Z
DTEND:20140412T211500Z
X-MICROSOFT-CDO-ALLDAYEVENT:FALSE
SUMMARY:Georgia Mountain Passion Play
DESCRIPTION:This year's annual Georgia Mountain Passion Play at First Baptist Church of Blairsville depicts the passion of Christ through the eyes of four of the women He healed during His ministry. Childcare for children 3 years of age and under is available during the Saturday 3:00 PM performance.
X-ALT-DESC;FMTTYPE=text/html:This year&#39\;s annual Georgia Mountain Passion Play at First Baptist Church of Blairsville depicts the passion of Christ through the eyes of four of the women He healed during His ministry. Childcare for children 3 years of age and under is available during the Saturday 3:00 PM performance.
LOCATION:First Baptist Church of Blairsville
UID:e.256.23661
SEQUENCE:3
DTSTAMP:20260424T133534Z
URL:https://members.visitblairsvillega.com/events/details/georgia-mountain-passion-play-04-12-2014-23661
END:VEVENT

END:VCALENDAR
