BEGIN:VCALENDAR
VERSION:2.0
PRODID:-//ChamberMaster//Event Calendar 2.0//EN
METHOD:PUBLISH
X-PUBLISHED-TTL:P3D
REFRESH-INTERVAL:P3D
CALSCALE:GREGORIAN
BEGIN:VEVENT
DTSTART:20170827T120000Z
DTEND:20170827T210000Z
X-MICROSOFT-CDO-ALLDAYEVENT:FALSE
SUMMARY:Georgia Mountain Tennis Championships
DESCRIPTION:7th annual recreational tournament. Hosted by Young Harris College Mountain Lion tennis teams. Players of all ages and skill levels welcome. Trophies for champions\, finalists and consolation winners. Proceeds benefit Big Brothers Big Sisters charity. Register at www.mountaintennis.com.
X-ALT-DESC;FMTTYPE=text/html:7th annual recreational tournament. Hosted by Young Harris College Mountain Lion tennis teams. Players of all ages and skill levels welcome. Trophies for champions\, finalists and consolation winners. Proceeds benefit Big Brothers Big Sisters charity. Register at www.mountaintennis.com.
LOCATION:Bob and Gayle Nichols Tennis Center at Young Harris College
UID:e.256.75333
SEQUENCE:3
DTSTAMP:20260419T195514Z
URL:https://members.visitblairsvillega.com/events/details/georgia-mountain-tennis-championships-08-27-2017-75333
END:VEVENT

END:VCALENDAR
