BEGIN:VCALENDAR
VERSION:2.0
PRODID:-//ChamberMaster//Event Calendar 2.0//EN
METHOD:PUBLISH
X-PUBLISHED-TTL:P3D
REFRESH-INTERVAL:P3D
CALSCALE:GREGORIAN
BEGIN:VEVENT
DTSTART:20160511T143000Z
DTEND:20160511T180000Z
X-MICROSOFT-CDO-ALLDAYEVENT:FALSE
SUMMARY:Georgia Mountains Job Fair
DESCRIPTION:ATTENTION EMPLOYERS AND EMPLOYEES:\n\nEmployees:  At this job fair you can connect with regional employers\; you will be open to all job applications on site\; you should be prepared for interviews\; you can achieve your career goals\; there will be tuition assistance available for free\; remember to bring several copies of your resume\; you can explore educational options\; and you should dress for success.\n\nEmployers:  CALLING ALL EMPLOYERS IN UNION\, TOWNS AND RABUN COUNTIES.  Please Call 770-538-2727 today to reserve a free table for your business/organization for this event!!!  Advanced registration is required and there will be a hospitality area with lunch and beverage provided for 2 representatives from each organization.
X-ALT-DESC;FMTTYPE=text/html:<strong>ATTENTION EMPLOYERS AND EMPLOYEES:</strong><br />\n<strong>Employees:</strong>&nbsp\; At this job fair you can connect with regional employers\; you will be open to all job applications on site\; you should be prepared for interviews\; you can achieve your career goals\; there will be tuition assistance available for free\; remember to bring several copies of your resume\; you can explore educational options\; and you should dress for success.<br />\n<strong>Employers:</strong>&nbsp\; CALLING ALL EMPLOYERS IN UNION\, TOWNS AND RABUN COUNTIES.&nbsp\; Please Call 770-538-2727 today to reserve a free table for your business/organization for this event!!!&nbsp\; Advanced registration is required and there will be a hospitality area with lunch and beverage provided for 2 representatives from each organization.
LOCATION:Towns County Recreation and Conference Center\, 150 Foster Park Road Hiawassee\, GA 30546 (Just off Hwy 76 at Mining Gap Trail)
UID:e.256.50914
SEQUENCE:3
DTSTAMP:20260421T002515Z
URL:https://members.visitblairsvillega.com/events/details/georgia-mountains-job-fair-05-11-2016-50914
END:VEVENT

END:VCALENDAR
