BEGIN:VCALENDAR
VERSION:2.0
PRODID:-//ChamberMaster//Event Calendar 2.0//EN
METHOD:PUBLISH
X-PUBLISHED-TTL:P3D
REFRESH-INTERVAL:P3D
CALSCALE:GREGORIAN
BEGIN:VEVENT
DTSTART:20160531T140000Z
DTEND:20160531T180000Z
X-MICROSOFT-CDO-ALLDAYEVENT:FALSE
SUMMARY:Georgia Mountains Regional Commission's Workforce Development Career Coach
DESCRIPTION:Georgia Mountains Regional Commission's Workforce Development Career Coach is visiting the Union County Library We will be helping local residents search & apply for jobs\, write resumes & cover letters\, and discern their career interests. We will also be providing information about tuition assistance & on-the-job training programs.
X-ALT-DESC;FMTTYPE=text/html:<span style="font-size: 12pt\;"><span style="font-family: calisto mt\,serif\;"><span style="color: black\;">Georgia Mountains Regional Commission&rsquo\;s Workforce Development Career Coach is visiting the Union County Library </span></span></span><span style="font-size: 12pt\;"><span style="font-family: calisto mt\,serif\;"><span style="color: black\;">We will be helping local residents search &amp\; apply for jobs\, write resumes &amp\; cover letters\, and discern their career interests. We will also be providing information about tuition assistance &amp\; on-the-job training programs.</span></span></span><br />\n&nbsp\;
LOCATION:The library is located at 303 Hunt Martin Street in Blairsville\, Georgia.
UID:e.256.51252
SEQUENCE:3
DTSTAMP:20260421T002443Z
URL:https://members.visitblairsvillega.com/events/details/georgia-mountains-regional-commission-s-workforce-development-career-coach-05-31-2016-51252
END:VEVENT

END:VCALENDAR
