BEGIN:VCALENDAR
VERSION:2.0
PRODID:-//ChamberMaster//Event Calendar 2.0//EN
METHOD:PUBLISH
X-PUBLISHED-TTL:P3D
REFRESH-INTERVAL:P3D
CALSCALE:GREGORIAN
BEGIN:VEVENT
DTSTART;VALUE=DATE:20160215
DTEND;VALUE=DATE:20160216
TRANSP:TRANSPARENT
X-MICROSOFT-CDO-ALLDAYEVENT:TRUE
SUMMARY:Georgia Small Business Week
DESCRIPTION:Governor Nathan Deal will declare February 15th   19th as Georgia Small Business Week. If you are a small business or want to share some love about your favorite small business\, use #GASmallBiz on your social channels.  From small food processing companies to innovative tech startups\, Georgia's small businesses are thriving and growing and we are gearing up to celebrate!
X-ALT-DESC;FMTTYPE=text/html:<span style="font-family: &quot\;Calibri&quot\;\,&quot\;sans-serif&quot\;\; font-size: 11pt\; mso-ascii-theme-font: minor-latin\; mso-fareast-font-family: Calibri\; mso-fareast-theme-font: minor-latin\; mso-hansi-theme-font: minor-latin\; mso-bidi-font-family: &quot\;Times New Roman&quot\;\; mso-bidi-theme-font: minor-bidi\; mso-ansi-language: EN-US\; mso-fareast-language: EN-US\; mso-bidi-language: AR-SA\;"><strong><font color="#000000">Governor Nathan Deal will declare February 15<sup>th</sup></font><font color="#000000"> &ndash\; 19</font><sup><font color="#000000">th</font></sup><font color="#000000"> as Georgia Small Business Week.</font></strong><font color="#000000">&nbsp\;If you are a small business or want to share some love about your favorite small business\, use <b>#GASmallBiz</b>&nbsp\;on your social channels.&nbsp\; </font></span><span style="font-size: medium\;"><span style="font-family: calibri\;">From small food processing companies to innovative tech startups\, Georgia&rsquo\;s small businesses are thriving and growing&mdash\;and we are gearing up to celebrate!</span></span><br />\n&nbsp\;
LOCATION:With more than 700\,000 small businesses registered in the state\, these companies contribute greatly to Georgia's economy and are a big reason why we have been named America's #1 State for Business 3 years in a row .
UID:e.256.48319
SEQUENCE:3
DTSTAMP:20260421T040114Z
URL:https://members.visitblairsvillega.com/events/details/georgia-small-business-week-02-15-2016-48319
END:VEVENT

END:VCALENDAR
