BEGIN:VCALENDAR
VERSION:2.0
PRODID:-//ChamberMaster//Event Calendar 2.0//EN
METHOD:PUBLISH
X-PUBLISHED-TTL:P3D
REFRESH-INTERVAL:P3D
CALSCALE:GREGORIAN
BEGIN:VEVENT
DTSTART:20151120T200000Z
DTEND:20151120T220000Z
X-MICROSOFT-CDO-ALLDAYEVENT:FALSE
SUMMARY:Get Fit for Life: Healthy Lifestyle Support Group for Women
DESCRIPTION:Healthy Lifestyle Support Group for Women\n\nJoin us for an exciting new adventure in creating health...\nWho should attend:  Women who desire support\, encouragement and accountability in making healthy lifestyle changes.\n\n\n\nFacilitator & Fitness Instructor:  Yolanda "YoYo" Rowland\n\n\n\nWhat to wear:  Comfortable\, loose fitting clothes and tennis shoes\n\n\n\nWhat you get:\n\n \n\n	One hour of health/fitness/nutrition instruction and fellowship with other women in an intimate\, supportive environment. This time includes prayer and Scripture to uplift and encourage you.\n	One hour of fitness class suitable for all fitness levels\n	Program guidebook at your initial session\n	Personalized fitness advice\n	Before and after body profile pictures\n	Before and after body measurements\n	Weekly weigh-Ins (optional)\n	On-going support and encouragement from YoYo\n	Chance to win a cash prize each month you participate for the most pounds lost (award given on the last Friday session on the month\n\nRules:\n\n\n\nIf you gain weight\, you pay $1/pound each week. Participation in the weight loss monitoring is always optional.\n\nFrequently Asked Questions:\n\n\n\nDo I need to call ahead?\n\n\n\nNo need to call ahead to reserve your spot.  Participation will be on a first come\, first serve basis with priority given to the Get Fit with YoYo members.\n\n\n\nDo I check in at the front desk on the main level?\n\n\n\nNo.  There is no need to check in with the front desk on the main level of the Life Wellness Center.  Simply come to the fitness studio located in Suite C in the rear of the building.\n\n\n\nIs there a discount if I plan to attend regularly?\n\n\n\nYes\, if you plan to attend the support group regularly and more than two fitness classes with YoYo per week\, it is economical to become a Get Fit with YoYo member.  The cost is either $25 per week or for an even greater savings you can pay $75 per calendar month to become a member. There are no long-term binding contracts.  You can join any time and there is no commitment to continue beyond the week or month that you pay to attend.  You are NOT required to be a member to participate in the weekly Get Fit for Life session.\n\n\n\nBecoming a Get Fit with YoYo member includes:\n\n \n\n	Access to the weekly Get Fit for Life: Healthy Lifestyle Support Group\n	Access to all the fitness classes with YoYo\n	First priority to attend YoYo's classes when they are full
X-ALT-DESC;FMTTYPE=text/html:<h1><span style="font-size: 12px\;"><span style="font-family: verdana\;"><strong><span style="color: rgb(102\, 255\, 102)\;">Healthy Lifestyle Support Group for Women</span></strong></span></span></h1>\n\n<h3><span style="font-size: 12px\;"><span style="font-family: verdana\;"><strong><span style="color: rgb(96\, 96\, 96)\;">Join us for an exciting new adventure in creating health...</span></strong></span></span></h3>\n<strong><span style="font-size: 9pt\;"><span style="font-family: helvetica\,sans-serif\;"><span style="color: rgb(96\, 96\, 96)\;">Who should attend:</span></span></span></strong><span style="font-size: 9pt\;"><span style="font-family: helvetica\,sans-serif\;"><span style="color: rgb(96\, 96\, 96)\;"> &nbsp\;Women who desire support\, encouragement and accountability in making healthy lifestyle changes.<br />\n<br />\n<strong><span style="font-family: helvetica\,sans-serif\;">Facilitator &amp\; Fitness Instructor: </span></strong>&nbsp\;Yolanda &ldquo\;YoYo&rdquo\; Rowland<br />\n<br />\n<strong><span style="font-family: helvetica\,sans-serif\;">What to wear:</span></strong> &nbsp\;Comfortable\, loose fitting clothes and tennis shoes<br />\n<br />\n<strong><span style="font-family: helvetica\,sans-serif\;">What you get:</span></strong></span></span></span><br />\n&nbsp\;\n<ul>\n	<li><span style="font-size: 12px\;"><font face="Helvetica">One hour of health/fitness/nutrition instruction and fellowship with other women in an intimate\, supportive environment. This time includes prayer and Scripture to uplift and encourage you.</font></span></li>\n	<li style="color: rgb(96\, 96\, 96)\; line-height: 150%\; -ms-text-size-adjust: 100%\; -webkit-text-size-adjust: 100%\;"><span style="font-size: 12px\;"><span style="font-family: helvetica\,sans-serif\;">One hour of fitness class suitable for all fitness levels</span></span></li>\n	<li style="color: rgb(96\, 96\, 96)\; line-height: 150%\; -ms-text-size-adjust: 100%\; -webkit-text-size-adjust: 100%\;"><span style="font-size: 12px\;"><span style="font-family: helvetica\,sans-serif\;">Program guidebook at your initial session</span></span></li>\n	<li style="color: rgb(96\, 96\, 96)\; line-height: 150%\; -ms-text-size-adjust: 100%\; -webkit-text-size-adjust: 100%\;"><span style="font-size: 12px\;"><span style="font-family: helvetica\,sans-serif\;">Personalized fitness advice</span></span></li>\n	<li style="color: rgb(96\, 96\, 96)\; line-height: 150%\; -ms-text-size-adjust: 100%\; -webkit-text-size-adjust: 100%\;"><span style="font-size: 12px\;"><span style="font-family: helvetica\,sans-serif\;">Before and after body profile pictures</span></span></li>\n	<li style="color: rgb(96\, 96\, 96)\; line-height: 150%\; -ms-text-size-adjust: 100%\; -webkit-text-size-adjust: 100%\;"><span style="font-size: 12px\;"><span style="font-family: helvetica\,sans-serif\;">Before and after body measurements</span></span></li>\n	<li style="color: rgb(96\, 96\, 96)\; line-height: 150%\; -ms-text-size-adjust: 100%\; -webkit-text-size-adjust: 100%\;"><span style="font-size: 12px\;"><span style="font-family: helvetica\,sans-serif\;">Weekly weigh-Ins (optional)</span></span></li>\n	<li style="color: rgb(96\, 96\, 96)\; line-height: 150%\; -ms-text-size-adjust: 100%\; -webkit-text-size-adjust: 100%\;"><span style="font-size: 12px\;"><span style="font-family: helvetica\,sans-serif\;">On-going support and encouragement from YoYo</span></span></li>\n	<li style="color: rgb(96\, 96\, 96)\; line-height: 150%\; -ms-text-size-adjust: 100%\; -webkit-text-size-adjust: 100%\;"><span style="font-size: 12px\;"><span style="font-family: helvetica\,sans-serif\;">Chance to win a cash prize each month you participate for the most pounds lost (award given on the last Friday session on the month</span></span></li>\n</ul>\n<span style="font-size: 12px\;"><strong><span style="font-family: helvetica\,sans-serif\;"><span style="color: rgb(96\, 96\, 96)\;">Rules:</span></span></strong><br />\n<br />\n<span style="font-family: helvetica\,sans-serif\;"><span style="color: rgb(96\, 96\, 96)\;">If you gain weight\, you pay $1/pound each week. Participation in the weight loss monitoring is always optional.<br />\nFrequently Asked Questions:<br />\n<br />\n<strong><span style="font-family: helvetica\,sans-serif\;">Do I need to call ahead?</span></strong><br />\n<br />\nNo need to call ahead to reserve your spot. &nbsp\;Participation will be on a first come\, first serve basis with priority given to the Get Fit with YoYo members.<br />\n<br />\n<strong><span style="font-family: helvetica\,sans-serif\;">Do I check in at the front desk on the main level?</span></strong><br />\n<br />\nNo. &nbsp\;There is no need to check in with the front desk on the main level of the Life Wellness Center. &nbsp\;Simply come to the fitness studio located in Suite C in the rear of the building.<br />\n<br />\n<strong><span style="font-family: helvetica\,sans-serif\;">Is there a discount if I plan to attend regularly?</span></strong><br />\n<br />\nYes\, if you plan to attend the support group regularly and more than two fitness classes with YoYo per week\, it is economical to become a Get Fit with YoYo member. &nbsp\;The cost is either $25 per week or for an even greater savings you can pay $75 per calendar month to become a member. There are no long-term binding contracts. &nbsp\;You can join any time and there is no commitment to continue beyond the week or month that you pay to attend. &nbsp\;You are NOT required to be a member to participate in the weekly Get Fit for Life session.<br />\n<br />\n<strong><span style="font-family: helvetica\,sans-serif\;">Becoming a Get Fit with YoYo member includes:</span></strong></span></span></span><br />\n&nbsp\;\n<ul>\n	<li style="color: rgb(96\, 96\, 96)\; line-height: 150%\; -ms-text-size-adjust: 100%\; -webkit-text-size-adjust: 100%\;"><span style="font-size: 12px\;"><span style="font-family: helvetica\,sans-serif\;">Access to the weekly Get Fit for Life: Healthy Lifestyle Support Group</span></span></li>\n	<li style="color: rgb(96\, 96\, 96)\; line-height: 150%\; -ms-text-size-adjust: 100%\; -webkit-text-size-adjust: 100%\;"><span style="font-size: 12px\;"><span style="font-family: helvetica\,sans-serif\;">Access to all the fitness classes with YoYo</span></span></li>\n	<li style="color: rgb(96\, 96\, 96)\; line-height: 150%\; -ms-text-size-adjust: 100%\; -webkit-text-size-adjust: 100%\;"><span style="font-size: 12px\;"><span style="font-family: helvetica\,sans-serif\;">First priority to attend YoYo&rsquo\;s classes when they are full</span></span></li>\n</ul>\n<br />\n&nbsp\;
LOCATION:Life Wellness Center 15 Earnest Drive Suite C Blairsville\, GA 30512
UID:e.256.40866
SEQUENCE:3
DTSTAMP:20260423T085821Z
URL:https://members.visitblairsvillega.com/events/details/get-fit-for-life-healthy-lifestyle-support-group-for-women-11-20-2015-40866
END:VEVENT

END:VCALENDAR
