BEGIN:VCALENDAR
VERSION:2.0
PRODID:-//ChamberMaster//Event Calendar 2.0//EN
METHOD:PUBLISH
X-PUBLISHED-TTL:P3D
REFRESH-INTERVAL:P3D
CALSCALE:GREGORIAN
BEGIN:VEVENT
DTSTART:20170819T130000Z
DTEND:20170820T033000Z
X-MICROSOFT-CDO-ALLDAYEVENT:FALSE
SUMMARY:Get Off the Grid Fest
DESCRIPTION:Get Off The Grid Fest aims to celebrate\, educate and collaborate with folks\, homesteaders\, renewable energy enthusiasts\, performers\, local and national organizations and vendors by providing a forum where people share tools\, ideas\, songs and stories about getting off the grid.  Incredible Music Lineup! Speakers and Presentations you won't want to miss! \n\nThe festival covers four themes:  Energy and the Environment\, Food and Agriculture\, Health and Wellness & Arts and Community.\n\nWe invite you to explore our website and get involved.  Click Festival Themes from the Menu to read a description on each\, and the types of organizations & individuals we are looking to participate with Get Off the Grid Fest. http://getoffthegridfest.com
X-ALT-DESC;FMTTYPE=text/html:<h4 style="text-align:center">Get Off The Grid Fest aims to celebrate\, educate and collaborate with folks\, homesteaders\, renewable energy enthusiasts\, performers\, local and national organizations and vendors by providing a forum where people share tools\, ideas\, songs and stories about getting off the grid. &nbsp\;Incredible Music Lineup! Speakers and Presentations you won&#39\;t want to miss!&nbsp\;</h4>\n\n<h4 style="text-align:center"><u><span style="color:rgb(153\, 51\, 0)\; font-family:inherit">The festival covers four themes:</span></u>&nbsp\;&nbsp\;<span style="color:rgb(255\, 102\, 0)\; font-family:inherit">Energy and the Environment\,</span>&nbsp\;<span style="color:rgb(0\, 128\, 0)\; font-family:inherit">Food and Agriculture\,</span>&nbsp\;<span style="color:rgb(0\, 51\, 102)\; font-family:inherit">Health and Wellness</span>&nbsp\;&amp\;&nbsp\;<span style="color:rgb(128\, 0\, 128)\; font-family:inherit">Arts and Community.</span></h4>\n\n<h3 style="text-align:center">We invite you to explore our&nbsp\;website and get involved.&nbsp\; Click Festival Themes from the Menu to read a description on each\, and the types of organizations &amp\;&nbsp\;individuals we are looking to participate with Get Off the Grid Fest. <a href="http://getoffthegridfest.com">http://getoffthegridfest.com</a></h3>\n
LOCATION:Union County Saddle Club - Blairsville\, GA
UID:e.256.71773
SEQUENCE:3
DTSTAMP:20260419T210345Z
URL:https://members.visitblairsvillega.com/events/details/get-off-the-grid-fest-08-19-2017-71773
END:VEVENT

END:VCALENDAR
