BEGIN:VCALENDAR
VERSION:2.0
PRODID:-//ChamberMaster//Event Calendar 2.0//EN
METHOD:PUBLISH
X-PUBLISHED-TTL:P3D
REFRESH-INTERVAL:P3D
CALSCALE:GREGORIAN
BEGIN:VEVENT
DTSTART:20140718T150000Z
DTEND:20140718T170000Z
X-MICROSOFT-CDO-ALLDAYEVENT:FALSE
SUMMARY:Get Paid to Sparkle - Premier Designs Shopportunity & Fall Preview Event
DESCRIPTION:Get Paid to Sparkle!!\n\nLearn how you could create additional income for your family budget by becoming a Jewelry Lady with Premier Designs Jewelry.\n\n\n\n  Save $200 on Samples with Our Fabulous New Jeweler Promotion*!!\n\n  Get $100 Rebate from Me After Your Training Show*\n\n  Plus...Free charm bracelet to first 10 guests that listen to the details of this opportunity.\n\n(*offer ends July 25th)\n\n \n\n  No sales or jewelry show quotas!!\n\n  No inventory and No territories!!\n\n  Work as little or as much as you want!\n\n \n\nYou owe it to yourself to learn what Premier Designs is all about!!\n\n\n\nWhen:     Friday\, July 18th @ 11:00am to 1:00pm\n\nWhere:    G&G Bakery & Caf \, Blairsville\, GA\n\nPLEASE CALL ALYSIA TO RSVP @ 706-994-9711\n\nVisit:  alysiahargus.mypremierdesigns.com
X-ALT-DESC;FMTTYPE=text/html:<div style="text-align: center\;"><span style="font-weight: bold\; language: en-US\;"><span style="color: rgb(234\, 21\, 122)\;"><span style="font-family: script mt bold\;"><span style="font-size: 28pt\;">Get Paid to Sparkle!!</span></span></span></span><br />\n<span style="font-style: italic\; language: en-US\;"><span style="color: black\;"><span style="font-family: calibri\;"><span style="font-size: 18pt\;"><span style="font-size: 20px\;">Learn how you could create additional income for your family budget by becoming a Jewelry Lady with Premier Designs Jewelry.</span></span></span></span></span><br />\n<br />\n<span style="font-size: 20px\;"><span style="unicode-bidi: embed\; direction: ltr\; language: x-none\;"><span style="color: blue\;"><span style="font-family: symbol\;">&uml\;</span></span></span>&nbsp\;<span style="font-weight: bold\; text-decoration: underline\; language: en-US\; text-underline: single\;"><span style="color: rgb(234\, 21\, 122)\;"><span style="font-family: calibri\;">Save $200</span></span></span> <span style="font-weight: bold\; language: en-US\;"><span style="color: blue\;"><span style="font-family: calibri\;">on Samples with Our Fabulous New Jeweler Promotion*!!</span></span></span><br />\n<span style="unicode-bidi: embed\; direction: ltr\; language: x-none\;"><span style="color: blue\;"><span style="font-family: symbol\;">&uml\;</span></span></span>&nbsp\;<span style="font-weight: bold\; language: en-US\;"><span style="color: blue\;"><span style="font-family: calibri\;">Get </span></span></span><span style="font-weight: bold\; text-decoration: underline\; language: en-US\; text-underline: single\;"><span style="color: rgb(234\, 21\, 122)\;"><span style="font-family: calibri\;">$100 Rebate</span></span></span> <span style="font-weight: bold\; language: en-US\;"><span style="color: blue\;"><span style="font-family: calibri\;">from Me After Your Training Show*</span></span></span><br />\n<span style="unicode-bidi: embed\; direction: ltr\; language: x-none\;"><span style="color: blue\;"><span style="font-family: symbol\;">&uml\;</span></span></span>&nbsp\;<span style="font-weight: bold\; text-decoration: underline\; language: en-US\; text-underline: single\;"><span style="color: rgb(234\, 21\, 122)\;"><span style="font-family: calibri\;">Plus...Free<u>&nbsp\;</u></span></span></span><span style="font-weight: bold\; language: en-US\;"><span style="color: blue\;"><span style="font-family: calibri\;">charm bracelet to first 10 guests that listen to the details of this opportunity.</span></span></span></span><br />\n<span style="font-size: 14px\;"><span style="font-style: italic\; font-weight: bold\; language: en-US\;"><span style="color: rgb(234\, 21\, 122)\;"><span style="font-family: calibri\;">(*offer ends July 25th)</span></span></span></span><br />\n&nbsp\;<br />\n<span style="font-size: 18px\;"><span style="unicode-bidi: embed\; direction: ltr\; language: x-none\;"><span style="color: black\;"><span style="font-family: symbol\;">&middot\;</span></span></span>&nbsp\;<span style="font-style: italic\; language: en-US\;"><span style="color: black\;"><span style="font-family: calibri\;">No sales or jewelry show quotas!!</span></span></span><br />\n<span style="unicode-bidi: embed\; direction: ltr\; language: x-none\;"><span style="color: black\;"><span style="font-family: symbol\;">&middot\;</span></span></span>&nbsp\;<span style="font-style: italic\; language: en-US\;"><span style="color: black\;"><span style="font-family: calibri\;">No inventory and No territories!!</span></span></span><br />\n<span style="unicode-bidi: embed\; direction: ltr\; language: x-none\;"><span style="color: black\;"><span style="font-family: symbol\;">&middot\;</span></span></span>&nbsp\;<span style="font-style: italic\; language: en-US\;"><span style="color: black\;"><span style="font-family: calibri\;">Work as little or as much as you want!</span></span></span></span><br />\n&nbsp\;<br />\n<span style="font-style: italic\; font-weight: bold\; language: en-US\;"><span style="color: rgb(234\, 21\, 122)\;"><span style="font-family: calibri\;"><span style="font-size: 18pt\;">You owe it to yourself to learn what Premier Designs is all about!!</span></span></span></span><br />\n<br />\n<span style="font-size: 20px\;"><span style="font-weight: bold\; language: en-US\;"><span style="color: blue\;"><span style="font-family: garamond\;">When:</span></span><span style="font-family: garamond\;">&nbsp\;&nbsp\;&nbsp\;&nbsp\; Friday\, July 18th @ 11:00am to 1:00pm</span></span><br />\n<span style="font-weight: bold\; language: en-US\;"><span style="color: blue\;"><span style="font-family: garamond\;">Where:</span></span></span><span style="font-weight: bold\; language: en-US\;"><span style="font-family: garamond\;">&nbsp\;&nbsp\;&nbsp\; G&amp\;G Bakery &amp\; Caf&eacute\;\, Blairsville\, GA</span></span><br />\n<span style="font-weight: bold\; language: en-US\;"><span style="color: rgb(234\, 21\, 122)\;"><span style="font-family: garamond\;">PLEASE CALL ALYSIA TO RSVP @ </span></span></span><span style="font-weight: bold\; language: en-US\;"><span style="font-family: garamond\;">706-994-9711</span></span><br />\n<span style="font-weight: bold\; language: en-US\;"><span style="color: blue\;"><span style="font-family: garamond\;">Visit:&nbsp\; </span></span><a href="http://alysiahargus.mypremierdesigns.com"><span style="font-family: garamond\;">alysiahargus.mypremierdesigns.com</span></a></span></span><br />\n&nbsp\;<br />\n&nbsp\;</div>\n
LOCATION:G & G Bakery & Cafe'
UID:e.256.24917
SEQUENCE:3
DTSTAMP:20260424T092223Z
URL:https://members.visitblairsvillega.com/events/details/get-paid-to-sparkle-premier-designs-shopportunity-fall-preview-event-07-18-2014-24917
END:VEVENT

END:VCALENDAR
