BEGIN:VCALENDAR
VERSION:2.0
PRODID:-//ChamberMaster//Event Calendar 2.0//EN
METHOD:PUBLISH
X-PUBLISHED-TTL:P3D
REFRESH-INTERVAL:P3D
CALSCALE:GREGORIAN
BEGIN:VEVENT
DTSTART:20150325T153000Z
DTEND:20150325T163000Z
X-MICROSOFT-CDO-ALLDAYEVENT:FALSE
SUMMARY:Getting Your Business Listed Online-Free Webinar!
DESCRIPTION:If you're a local business it's critical that your customers can find you. How do they do that   They search online!\n\n\n\nSo is your Business showing up? Are you "local search" friendly?\n\n \n\nThe core work of any local search marketing campaign is the creation of local business listings. A local business listing is an online profile that contains your business name\, address\, phone number\, and other details. There are thousands of websites and directories on which local business owners are allowed to create free business listings. Some you may already have heard about include Google+ Local\, Apple Maps\, Yelp\, Bing Places\, Internet Yellow Pages\, and Yahoo! Local.\n\n \n\nWhen someone searches online for a local business\, search engines and many mobile apps rely on location data from these data sources to provide search results.\n\n \n\nIs Your Business Listed Correctly?\n\n \n\nIf listing data is incorrect or inconsistent between all these data sources\, your listing might not show up in the search results.\n\n \n\nBut don't worry we are going to talk about how local search works and where you need to have your Business listed! We will also have a live Q&A for those who have questions.\n\n\n\nPlease join the Chamber and M6Media for a FREE webinar to make sure your business is getting found.
X-ALT-DESC;FMTTYPE=text/html:<span style="font-size: medium\;"><span style="font-family: cambria\;">If you&rsquo\;re a local business it&rsquo\;s critical that your customers can find you. How do they do that &ndash\; They search online!</span></span><br />\n<br />\n<strong><span style="font-size: medium\;"><span style="font-family: cambria\;">So is your Business showing up? Are you &ldquo\;local search&rdquo\; friendly?</span></span></strong><br />\n&nbsp\;<br />\n<span style="font-size: medium\;"><span style="font-family: cambria\;">The core work of any local search marketing campaign is the creation of local business listings. A local business listing is an online profile that contains your business name\, address\, phone number\, and other details. There are thousands of websites and directories on which local business owners are allowed to create free business listings. Some you may already have heard about include Google+ Local\, Apple Maps\, Yelp\, Bing Places\, Internet Yellow Pages\, and Yahoo! Local.</span></span><br />\n&nbsp\;<br />\n<span style="font-size: medium\;"><span style="font-family: cambria\;">When someone searches online for a local business\, search engines and many mobile apps rely on location data from these data sources to provide search results.</span></span><br />\n&nbsp\;<br />\n<strong><span style="font-size: medium\;"><span style="font-family: cambria\;">Is Your Business Listed Correctly?</span></span></strong><br />\n&nbsp\;<br />\n<span style="font-size: medium\;"><span style="font-family: cambria\;">If listing data is incorrect or inconsistent between all these data sources\, your listing might not show up in the search results.</span></span><br />\n&nbsp\;<br />\n<span style="font-size: medium\;"><span style="font-family: cambria\;">But don&rsquo\;t worry we are going to talk about how local search works and where you need to have your Business listed! We will also have a live Q&amp\;A for those who have questions.</span></span><br />\n<br />\n<span style="font-size: medium\;"><span style="font-family: cambria\;">Please join the Chamber and M6Media for a FREE webinar to make sure your business is getting found. </span></span><br />\n&nbsp\;
LOCATION:Online - Live Webinar
UID:e.256.37681
SEQUENCE:3
DTSTAMP:20260423T225910Z
URL:https://members.visitblairsvillega.com/events/details/getting-your-business-listed-online-free-webinar-03-25-2015-37681
END:VEVENT

END:VCALENDAR
