BEGIN:VCALENDAR
VERSION:2.0
PRODID:-//ChamberMaster//Event Calendar 2.0//EN
METHOD:PUBLISH
X-PUBLISHED-TTL:P3D
REFRESH-INTERVAL:P3D
CALSCALE:GREGORIAN
BEGIN:VEVENT
DTSTART:20140801T233000Z
DTEND:20140802T020000Z
X-MICROSOFT-CDO-ALLDAYEVENT:FALSE
SUMMARY:Gimme Abbey
DESCRIPTION:Artist Detail: A tribute to The Beatles & The Rolling Stones So\, it's late 1969\, let's imagine they had reached out to one another with an idea and a concept. Let's put together an historical event to close out the Sixties. A one night\, one time show featuring the two biggest rock & roll bands of all time. On stage\, together\, live\, a worldwide media event! A spectacular show that will be remembered in the history of music as the greatest concert ever!
X-ALT-DESC;FMTTYPE=text/html:Artist Detail: A tribute to The Beatles &amp\; The Rolling Stones So\, it&#39\;s late 1969\, let&#39\;s imagine they had reached out to one another with an idea and a concept. Let&#39\;s put together an historical event to close out the Sixties. A one night\, one time show featuring the two biggest rock &amp\; roll bands of all time. On stage\, together\, live\, a worldwide media event! A spectacular show that will be remembered in the history of music as the greatest concert ever!
LOCATION:The Smoky Mountain Center Performing Arts 1028 Georgia Road Franklin\, NC 28734 Hours of Operation (Tickets/Info): Monday - Friday 9:30am - 6:30pm\; Saturday 11:00am - 4:00pm Ticket Information: http://www.greatmountainmusic.com/buy-tickets.asp Seating: http://www.greatmountainmusic.com/seating.asp Parking: There is limited parking available at the theater. Overflow parking is available directly below the theater at the Macon County Recreational Park. Shuttle service is available for some shows. Please call ahead to determine if the shuttle is operating for a certain show. Directions: http://www.greatmountainmusic.com/directions.asp
UID:e.256.25377
SEQUENCE:3
DTSTAMP:20260424T091635Z
URL:https://members.visitblairsvillega.com/events/details/gimme-abbey-08-01-2014-25377
END:VEVENT

END:VCALENDAR
