BEGIN:VCALENDAR
VERSION:2.0
PRODID:-//ChamberMaster//Event Calendar 2.0//EN
METHOD:PUBLISH
X-PUBLISHED-TTL:P3D
REFRESH-INTERVAL:P3D
CALSCALE:GREGORIAN
BEGIN:VEVENT
DTSTART:20170505T210000Z
DTEND:20170506T013000Z
X-MICROSOFT-CDO-ALLDAYEVENT:FALSE
SUMMARY:Girls Night Out One Stop Shopping Event
DESCRIPTION:Girls Night Out One Stop Shopping at The Hackney Warehouse will be held on May 5\, 2017 from 5 PM to 9:30 PM. We will have many vendors to shop from as well as beer\, wine\, and food available! Mother's Day is coming up so this is the perfect opportunity to get a gift for mom!
X-ALT-DESC;FMTTYPE=text/html:Girls Night Out One Stop Shopping at The Hackney Warehouse will be held on May 5\, 2017 from 5 PM to 9:30 PM. We will have many vendors to shop from as well as beer\, wine\, and food available! Mother&#39\;s Day is coming up so this is the perfect opportunity to get a gift for mom!&nbsp\;
LOCATION:The Hackney Warehouse 11 Railroad Street Murphy\, NC 28906
UID:e.256.71812
SEQUENCE:3
DTSTAMP:20260420T010426Z
URL:https://members.visitblairsvillega.com/events/details/girls-night-out-one-stop-shopping-event-71812
END:VEVENT

END:VCALENDAR
