BEGIN:VCALENDAR
VERSION:2.0
PRODID:-//ChamberMaster//Event Calendar 2.0//EN
METHOD:PUBLISH
X-PUBLISHED-TTL:P3D
REFRESH-INTERVAL:P3D
CALSCALE:GREGORIAN
BEGIN:VEVENT
DTSTART:20160428T170000Z
DTEND:20160428T190000Z
X-MICROSOFT-CDO-ALLDAYEVENT:FALSE
SUMMARY:Give the Gift of Hope: Relay for Life Fundraiser
DESCRIPTION:GIVE THE GIFT OF HOPE... Be A Relay for Life Super Hero Curves of Blairsville and Cabin Coffee Co. Invite You to an Exclusive Relay for Life Jewelry Event Featuring Premier Designs Jewelry by Alysia Hargus. 25% of Retail Jewelry Sales Will Be Donated to Relay for Life. Can't Make It But Want To Support This Relay for Life Event? Browse Premier Designs Jewelry Collection Online at AlysiaHargus.MyPremierDesigns.com. Please contact Alysia Hargus with your order by April 27th. (706) 994-9711
X-ALT-DESC;FMTTYPE=text/html:GIVE THE GIFT OF HOPE... Be A Relay for Life Super Hero Curves of Blairsville and Cabin Coffee Co. Invite You to an Exclusive Relay for Life Jewelry Event Featuring Premier Designs Jewelry by Alysia Hargus. 25% of Retail Jewelry Sales Will Be Donated to Relay for Life. Can&#39\;t Make It But Want To Support This Relay for Life Event? Browse Premier Designs Jewelry Collection Online at AlysiaHargus.MyPremierDesigns.com. Please contact Alysia Hargus with your order by April 27th. (706) 994-9711
LOCATION:Cabin Coffee Co. 44 Town Square Blairsville\, GA In the Meeting Room
UID:e.256.50769
SEQUENCE:3
DTSTAMP:20260421T004009Z
URL:https://members.visitblairsvillega.com/events/details/give-the-gift-of-hope-relay-for-life-fundraiser-04-28-2016-50769
END:VEVENT

END:VCALENDAR
