BEGIN:VCALENDAR
VERSION:2.0
PRODID:-//ChamberMaster//Event Calendar 2.0//EN
METHOD:PUBLISH
X-PUBLISHED-TTL:P3D
REFRESH-INTERVAL:P3D
CALSCALE:GREGORIAN
BEGIN:VEVENT
DTSTART:20140315T140000Z
DTEND:20140315T170000Z
X-MICROSOFT-CDO-ALLDAYEVENT:FALSE
SUMMARY:Glamorous Before/After Photo Shoot
DESCRIPTION:Celebrate A Special Day!\n\nHow would you like to do Something Special for Yourself and Look Beautiful in the process. Looking for a Fun day for you and Your Friends? Experience a portrait session\, where You are the center of attention\, Celebrating your beauty with a fun Glamorous Before/After Photo Shoot.\n\nThere will be Mary Kay specials that day that you do not want to miss!\n\n\n\nRSVP: Mayra Owen\, 770-833-8842 to reserve your slot. Walk ins will not be permitted!
X-ALT-DESC;FMTTYPE=text/html:<strong>Celebrate A Special Day!</strong><br />\nHow would you like to do Something Special for Yourself and Look Beautiful in the process. Looking for a Fun day for you and Your Friends? Experience a portrait session\, where You are the center of attention\, Celebrating your beauty with a fun Glamorous Before/After Photo Shoot.<br />\nThere will be Mary Kay specials that day that you do not want to miss!<br />\n<br />\n<strong>RSVP: Mayra Owen\, 770-833-8842 to reserve your slot. Walk ins will not be permitted! </strong>
LOCATION:Azzarello Photography Studio 307D Cleveland Street Blairsville\, GA
UID:e.256.23390
SEQUENCE:3
DTSTAMP:20260424T152115Z
URL:https://members.visitblairsvillega.com/events/details/glamorous-before-after-photo-shoot-03-15-2014-23390
END:VEVENT

END:VCALENDAR
