BEGIN:VCALENDAR
VERSION:2.0
PRODID:-//ChamberMaster//Event Calendar 2.0//EN
METHOD:PUBLISH
X-PUBLISHED-TTL:P3D
REFRESH-INTERVAL:P3D
CALSCALE:GREGORIAN
BEGIN:VEVENT
DTSTART:20140412T140000Z
DTEND:20140412T180000Z
X-MICROSOFT-CDO-ALLDAYEVENT:FALSE
SUMMARY:Glamorous Before/After Photo Shoot
DESCRIPTION:Celebrate A Special Day!\n\nHow would you like to do Something Special For Yourself\n\nand Look Beautiful in the Process.\n\nLooking for a Fun Day for you and your friends?\n\nExperience a portrait session\, where You are the Center of attention\, Celebrating your Beauty with a fun Glamorous Before/After Photo Shoot.\n\n\n\nPerfect timing for Mother's Day!\n\nRSVP: Azzarello Photography - 706-633-3396 to reserve your slot.\n\nWalk ins will not be permitted!\n\nThere will be Mary Kay specials that day that you do not want to miss!
X-ALT-DESC;FMTTYPE=text/html:Celebrate A Special Day!<br />\nHow would you like to do Something Special For Yourself<br />\nand Look Beautiful in the Process.<br />\nLooking for a Fun Day for you and your friends?<br />\nExperience a portrait session\, where You are the Center of attention\, Celebrating your Beauty with a fun Glamorous Before/After Photo Shoot.<br />\n<br />\nPerfect timing for Mother&#39\;s Day!<br />\nRSVP: Azzarello Photography - 706-633-3396 to reserve your slot.<br />\nWalk ins will not be permitted!<br />\nThere will be Mary Kay specials that day that you do not want to miss!
LOCATION:Azzarello Photography Studio 307D Cleveland Street Blairsville
UID:e.256.23499
SEQUENCE:3
DTSTAMP:20260424T133442Z
URL:https://members.visitblairsvillega.com/events/details/glamorous-before-after-photo-shoot-04-12-2014-23499
END:VEVENT

END:VCALENDAR
