BEGIN:VCALENDAR
VERSION:2.0
PRODID:-//ChamberMaster//Event Calendar 2.0//EN
METHOD:PUBLISH
X-PUBLISHED-TTL:P3D
REFRESH-INTERVAL:P3D
CALSCALE:GREGORIAN
BEGIN:VEVENT
DTSTART:20150314T140000Z
DTEND:20150314T180000Z
X-MICROSOFT-CDO-ALLDAYEVENT:FALSE
SUMMARY:Glamour Potrait Session and Springtime Makeover
DESCRIPTION:You and your girlfriends are invited to come experience a Glamour Portrait Session and Springtime Makeover! Lisa Azzarello of Azzarello Photography and Mayra Owen of Mary Kay Cosmetics are teamed up for a day of glamour & fun.\n\nIncluded is a $20 Mary Kay Gift Certificate and a 5 X 7 or 8 X 10 Portrait!
X-ALT-DESC;FMTTYPE=text/html:You and your girlfriends are invited to come experience a Glamour Portrait Session and Springtime Makeover! Lisa Azzarello of Azzarello Photography and Mayra Owen of Mary Kay Cosmetics are teamed up for a day of glamour &amp\; fun.<br />\n<strong>Included is a $20 Mary Kay Gift Certificate and a 5 X 7 or 8 X 10 Portrait!</strong>
LOCATION:Azzarello Photography 307 Cleveland St. Suite D
UID:e.256.37680
SEQUENCE:3
DTSTAMP:20260423T211711Z
URL:https://members.visitblairsvillega.com/events/details/glamour-potrait-session-and-springtime-makeover-03-14-2015-37680
END:VEVENT

END:VCALENDAR
