BEGIN:VCALENDAR
VERSION:2.0
PRODID:-//ChamberMaster//Event Calendar 2.0//EN
METHOD:PUBLISH
X-PUBLISHED-TTL:P3D
REFRESH-INTERVAL:P3D
CALSCALE:GREGORIAN
BEGIN:VEVENT
DTSTART:20160322T140000Z
DTEND:20160322T180000Z
X-MICROSOFT-CDO-ALLDAYEVENT:FALSE
SUMMARY:GMRC Workforce Development Career Coach
DESCRIPTION:Need assistance in your job search or in furthering you education.\n\nCome out to the mobile Career Coach!
X-ALT-DESC;FMTTYPE=text/html:Need assistance in your job search or in furthering you education.<br />\nCome out to the mobile Career Coach!
LOCATION:Union County Library 303 Hunt Martin St. Blairsville
UID:e.256.50531
SEQUENCE:3
DTSTAMP:20260421T021524Z
URL:https://members.visitblairsvillega.com/events/details/gmrc-workforce-development-career-coach-03-22-2016-50531
END:VEVENT

END:VCALENDAR
