BEGIN:VCALENDAR
VERSION:2.0
PRODID:-//ChamberMaster//Event Calendar 2.0//EN
METHOD:PUBLISH
X-PUBLISHED-TTL:P3D
REFRESH-INTERVAL:P3D
CALSCALE:GREGORIAN
BEGIN:VEVENT
DTSTART:20260426T170000Z
DTEND:20260426T180000Z
X-MICROSOFT-CDO-ALLDAYEVENT:FALSE
SUMMARY:Goat Yoga at Rhatigan Farms
DESCRIPTION:Come on out for our one hour goat yoga class. This is an all levels class so don?t be intimidated! You can also just sit and snuggle goats. We always bring down baby bunnies and chicks you can visit with after class. Also make sure to check out our gift shop filled with local artisan items.
X-ALT-DESC;FMTTYPE=text/html:Come on out for our one hour goat yoga class. This is an all levels class so don?t be intimidated! You can also just sit and snuggle goats. We always bring down baby bunnies and chicks you can visit with after class. Also make sure to check out our gift shop filled with local artisan items.
LOCATION:Rhatigan Farms
UID:e.256.143437
SEQUENCE:3
DTSTAMP:20260424T001622Z
URL:https://members.visitblairsvillega.com/events/details/goat-yoga-at-rhatigan-farms-04-26-2026-143437
END:VEVENT

END:VCALENDAR
