BEGIN:VCALENDAR
VERSION:2.0
PRODID:-//ChamberMaster//Event Calendar 2.0//EN
METHOD:PUBLISH
X-PUBLISHED-TTL:P3D
REFRESH-INTERVAL:P3D
CALSCALE:GREGORIAN
BEGIN:VEVENT
DTSTART:20140425T150000Z
DTEND:20140425T150000Z
X-MICROSOFT-CDO-ALLDAYEVENT:FALSE
SUMMARY:Goldhagen Art Studio at 2014 Knoxville Dogwood Festival
DESCRIPTION:2014 Dogwood Arts Festival Market Square Art Fair! April 25\, 26 & 27\, 2014\n\nDavid Goldhagen is coming to the Knoxville Dogwood Festival! Visit David at booth #29 this weekend.\n\nThe Festival is held from 11am-9pm on Friday\, 10am-9pm on Saturday and 11am-5pm on Sunday. The festival will be held at the Market Square in Downtown Knoxville.\n\nFor more information contact us at 828.389.8847 or davidgoldhagen@gmail.com www.goldhagenartglass.com\n\nGoldhagen Art Glass Studio 7 Goldhagen Studio Dr Hayesville\, North Carolina 28904
X-ALT-DESC;FMTTYPE=text/html:2014 Dogwood Arts Festival Market Square Art Fair! April 25\, 26 &amp\; 27\, 2014<br />\nDavid Goldhagen is coming to the Knoxville Dogwood Festival! Visit David at booth #29 this weekend.<br />\nThe Festival is held from <strong>11am-9pm on Friday\, 10am-9pm on Saturday and 11am-5pm on Sunday</strong>. The festival will be held at the Market Square in Downtown Knoxville.<br />\nFor more information contact us at 828.389.8847 or davidgoldhagen@gmail.com www.goldhagenartglass.com<br />\nGoldhagen Art Glass Studio 7 Goldhagen Studio Dr Hayesville\, North Carolina 28904
LOCATION:Knoxville Dogwood Festival Market Square in Downtown Knoxville
UID:e.256.24234
SEQUENCE:3
DTSTAMP:20260424T134210Z
URL:https://members.visitblairsvillega.com/events/details/goldhagen-art-studio-at-2014-knoxville-dogwood-festival-04-25-2014-24234
END:VEVENT

END:VCALENDAR
