BEGIN:VCALENDAR
VERSION:2.0
PRODID:-//ChamberMaster//Event Calendar 2.0//EN
METHOD:PUBLISH
X-PUBLISHED-TTL:P3D
REFRESH-INTERVAL:P3D
CALSCALE:GREGORIAN
BEGIN:VEVENT
DTSTART:20171202T150000Z
DTEND:20171210T220000Z
X-MICROSOFT-CDO-ALLDAYEVENT:FALSE
SUMMARY:Goldhagen Holiday Open House
DESCRIPTION:Goldhagen Art Glass will be celebrating the holidays with their annual Holiday Sale and Open House which takes place the first two weekends in December. Visit the Gallery to find unique one of a kind gifts. Choose from one of the many blown glass creations of renowned glass artist David Goldhagen or select a piece from a collection of work from both regional and national artists including glass jewelry\, stemware\, and pottery. Enjoy 15% off almost all glass in the Gallery and up to 50% on select items.
X-ALT-DESC;FMTTYPE=text/html:<span style="background-color:rgb(255\, 255\, 255)\; color:rgb(34\, 34\, 34)\; font-family:arial\,sans-serif\; font-size:12.8px">Goldhagen Art Glass will be celebrating the holidays with their annual Holiday Sale and Open House which takes place the first two weekends in December. Visit the Gallery to find unique one of a kind gifts. Choose from one of the many blown glass creations of renowned glass artist David Goldhagen or select a piece from a collection of work from both regional and national artists including glass jewelry\, stemware\, and pottery. Enjoy 15% off almost all glass in the Gallery and up to 50% on select items.&nbsp\;</span>
LOCATION:Goldhagen Art Glass Studio 7 Goldhagen Studio Drive Hayesville\, NC 28904
UID:e.256.77045
SEQUENCE:3
DTSTAMP:20260419T140713Z
URL:https://members.visitblairsvillega.com/events/details/goldhagen-holiday-open-house-77045
END:VEVENT

END:VCALENDAR
