BEGIN:VCALENDAR
VERSION:2.0
PRODID:-//ChamberMaster//Event Calendar 2.0//EN
METHOD:PUBLISH
X-PUBLISHED-TTL:P3D
REFRESH-INTERVAL:P3D
CALSCALE:GREGORIAN
BEGIN:VEVENT
DTSTART:20140913T230000Z
DTEND:20140914T023000Z
X-MICROSOFT-CDO-ALLDAYEVENT:FALSE
SUMMARY:Goldhagen Hot Summer Nights
DESCRIPTION:Wyatt Espalin\n\nAdmission: $10 per person Desserts & Beverages available for purchase separately\n\n\n\nFor Reservations Call: 828.389.8847\n\n7 Goldhagen Studio Drive\, Hayesville\, NC 28904\n\ndavidgoldhagen@gmail.com\n\nwww.goldhagenartglass.com
X-ALT-DESC;FMTTYPE=text/html:Wyatt Espalin<br />\nAdmission: $10 per person Desserts &amp\; Beverages available for purchase separately<br />\n<br />\nFor Reservations Call: 828.389.8847<br />\n7 Goldhagen Studio Drive\, Hayesville\, NC 28904<br />\ndavidgoldhagen@gmail.com<br />\nwww.goldhagenartglass.com
LOCATION:7 Goldhagen Studio Drive Hayesville\, NC
UID:e.256.24742
SEQUENCE:3
DTSTAMP:20260424T074005Z
URL:https://members.visitblairsvillega.com/events/details/goldhagen-hot-summer-nights-09-13-2014-24742
END:VEVENT

END:VCALENDAR
