BEGIN:VCALENDAR
VERSION:2.0
PRODID:-//ChamberMaster//Event Calendar 2.0//EN
METHOD:PUBLISH
X-PUBLISHED-TTL:P3D
REFRESH-INTERVAL:P3D
CALSCALE:GREGORIAN
BEGIN:VEVENT
DTSTART:20170916T170000Z
DTEND:20170916T180000Z
X-MICROSOFT-CDO-ALLDAYEVENT:FALSE
SUMMARY:Goldrush School of Music Open House
DESCRIPTION:Goldrush School of Music will be hosting an Open House with live music and refreshments\, an opportunity to meet the teachers and check out the facilities\, and a chance to win two FREE lessons!
X-ALT-DESC;FMTTYPE=text/html:Goldrush School of Music will be hosting an Open House with live music and refreshments\, an opportunity to meet the teachers and check out the facilities\, and a chance to win two FREE lessons!
LOCATION:51 Earnest Street Blairsville\, GA 30512
UID:e.256.75771
SEQUENCE:3
DTSTAMP:20260419T175921Z
URL:https://members.visitblairsvillega.com/events/details/goldrush-school-of-music-open-house-75771
END:VEVENT

END:VCALENDAR
