BEGIN:VCALENDAR
VERSION:2.0
PRODID:-//ChamberMaster//Event Calendar 2.0//EN
METHOD:PUBLISH
X-PUBLISHED-TTL:P3D
REFRESH-INTERVAL:P3D
CALSCALE:GREGORIAN
BEGIN:VEVENT
DTSTART:20150925T150000Z
DTEND:20150925T220000Z
X-MICROSOFT-CDO-ALLDAYEVENT:FALSE
SUMMARY:Golf Tournament - Annual Kiwanis International
DESCRIPTION:With a kindred interest in meeting the needs of the children in our community\, Union General Hospital and the Blairsville Kiwanis Club are working together to raise funds to further our cause.
X-ALT-DESC;FMTTYPE=text/html:With a kindred interest in meeting the needs of the children in our community\, Union General Hospital and the Blairsville Kiwanis Club are working together to raise funds to further our cause.
LOCATION:Old Union Golf course\, located off Hwy. 129 North in Owen Glen Golf Community.
UID:e.256.42414
SEQUENCE:3
DTSTAMP:20260423T134306Z
URL:https://members.visitblairsvillega.com/events/details/golf-tournament-annual-kiwanis-international-09-25-2015-42414
END:VEVENT

END:VCALENDAR
