BEGIN:VCALENDAR
VERSION:2.0
PRODID:-//ChamberMaster//Event Calendar 2.0//EN
METHOD:PUBLISH
X-PUBLISHED-TTL:P3D
REFRESH-INTERVAL:P3D
CALSCALE:GREGORIAN
BEGIN:VEVENT
DTSTART:20170908T170000Z
DTEND:20170908T200000Z
X-MICROSOFT-CDO-ALLDAYEVENT:FALSE
SUMMARY:Golf Tournament - Warriors Veteran Outreach
DESCRIPTION:Support the Warriors Veterans Outreach Organization in this annual golf tournament.\n\n\n\nProceeds to the Warriors Veterans Outreach
X-ALT-DESC;FMTTYPE=text/html:Support the Warriors Veterans Outreach Organization in this annual golf tournament.<br />\n<br />\nProceeds to the Warriors Veterans Outreach
LOCATION:Old Union Golf Course
UID:e.256.72235
SEQUENCE:3
DTSTAMP:20260419T193120Z
URL:https://members.visitblairsvillega.com/events/details/golf-tournament-warriors-veteran-outreach-72235
END:VEVENT

END:VCALENDAR
