BEGIN:VCALENDAR
VERSION:2.0
PRODID:-//ChamberMaster//Event Calendar 2.0//EN
METHOD:PUBLISH
X-PUBLISHED-TTL:P3D
REFRESH-INTERVAL:P3D
CALSCALE:GREGORIAN
BEGIN:VEVENT
DTSTART:20170414T230000Z
DTEND:20170415T000000Z
X-MICROSOFT-CDO-ALLDAYEVENT:FALSE
SUMMARY:Good Friday Ecumenical Service
DESCRIPTION:Good Friday Ecumenical Service with Blue Ridge United Methodist Church\, St Lukes Episcopal Church\, Faith Presbyterian Church and hosted by Shepherd of the Hills Lutheran Church.
X-ALT-DESC;FMTTYPE=text/html:Good Friday Ecumenical Service with Blue Ridge United Methodist Church\, St Lukes Episcopal Church\, Faith Presbyterian Church and hosted by Shepherd of the Hills Lutheran Church.
LOCATION:Shepherd of the Hills Lutheran Church\, 823 Forge Mill Rd\, Morganton\, GA 30560
UID:e.256.71034
SEQUENCE:3
DTSTAMP:20260420T023727Z
URL:https://members.visitblairsvillega.com/events/details/good-friday-ecumenical-service-71034
END:VEVENT

END:VCALENDAR
